BEGIN:VCALENDAR
VERSION:2.0
PRODID:-//Julie Renee - ECPv6.15.13//NONSGML v1.0//EN
CALSCALE:GREGORIAN
METHOD:PUBLISH
X-ORIGINAL-URL:https://julierenee.com
X-WR-CALDESC:Events for Julie Renee
REFRESH-INTERVAL;VALUE=DURATION:PT1H
X-Robots-Tag:noindex
X-PUBLISHED-TTL:PT1H
BEGIN:VTIMEZONE
TZID:America/Chicago
BEGIN:DAYLIGHT
TZOFFSETFROM:-0600
TZOFFSETTO:-0500
TZNAME:CDT
DTSTART:20240310T080000
END:DAYLIGHT
BEGIN:STANDARD
TZOFFSETFROM:-0500
TZOFFSETTO:-0600
TZNAME:CST
DTSTART:20241103T070000
END:STANDARD
BEGIN:DAYLIGHT
TZOFFSETFROM:-0600
TZOFFSETTO:-0500
TZNAME:CDT
DTSTART:20250309T080000
END:DAYLIGHT
BEGIN:STANDARD
TZOFFSETFROM:-0500
TZOFFSETTO:-0600
TZNAME:CST
DTSTART:20251102T070000
END:STANDARD
BEGIN:DAYLIGHT
TZOFFSETFROM:-0600
TZOFFSETTO:-0500
TZNAME:CDT
DTSTART:20260308T080000
END:DAYLIGHT
BEGIN:STANDARD
TZOFFSETFROM:-0500
TZOFFSETTO:-0600
TZNAME:CST
DTSTART:20261101T070000
END:STANDARD
END:VTIMEZONE
BEGIN:VEVENT
DTSTART;TZID=America/Chicago:20251229T090000
DTEND;TZID=America/Chicago:20251229T120000
DTSTAMP:20260425T063434
CREATED:20251203T232547Z
LAST-MODIFIED:20251203T232547Z
UID:10002039-1766998800-1767009600@julierenee.com
SUMMARY:Reclaiming the Body
DESCRIPTION:
URL:https://julierenee.com/training/reclaiming-the-body/
END:VEVENT
BEGIN:VEVENT
DTSTART;TZID=America/Chicago:20251229T130000
DTEND;TZID=America/Chicago:20251229T150000
DTSTAMP:20260425T063434
CREATED:20250812T220208Z
LAST-MODIFIED:20250812T220208Z
UID:10001994-1767013200-1767020400@julierenee.com
SUMMARY:Forever Wealth.. Realized
DESCRIPTION:
URL:https://julierenee.com/training/forever-wealth-realized-10/
END:VEVENT
BEGIN:VEVENT
DTSTART;TZID=America/Chicago:20251229T153000
DTEND;TZID=America/Chicago:20251229T160000
DTSTAMP:20260425T063434
CREATED:20251218T221141Z
LAST-MODIFIED:20251218T221141Z
UID:10002134-1767022200-1767024000@julierenee.com
SUMMARY:Why Wait? Incinerate!
DESCRIPTION:
URL:https://julierenee.com/training/why-wait-incinerate-36/
END:VEVENT
END:VCALENDAR