BEGIN:VCALENDAR
VERSION:2.0
PRODID:-//Julie Renee - ECPv6.15.13//NONSGML v1.0//EN
CALSCALE:GREGORIAN
METHOD:PUBLISH
X-WR-CALNAME:Julie Renee
X-ORIGINAL-URL:https://julierenee.com
X-WR-CALDESC:Events for Julie Renee
REFRESH-INTERVAL;VALUE=DURATION:PT1H
X-Robots-Tag:noindex
X-PUBLISHED-TTL:PT1H
BEGIN:VTIMEZONE
TZID:America/Chicago
BEGIN:DAYLIGHT
TZOFFSETFROM:-0600
TZOFFSETTO:-0500
TZNAME:CDT
DTSTART:20250309T080000
END:DAYLIGHT
BEGIN:STANDARD
TZOFFSETFROM:-0500
TZOFFSETTO:-0600
TZNAME:CST
DTSTART:20251102T070000
END:STANDARD
BEGIN:DAYLIGHT
TZOFFSETFROM:-0600
TZOFFSETTO:-0500
TZNAME:CDT
DTSTART:20260308T080000
END:DAYLIGHT
BEGIN:STANDARD
TZOFFSETFROM:-0500
TZOFFSETTO:-0600
TZNAME:CST
DTSTART:20261101T070000
END:STANDARD
BEGIN:DAYLIGHT
TZOFFSETFROM:-0600
TZOFFSETTO:-0500
TZNAME:CDT
DTSTART:20270314T080000
END:DAYLIGHT
BEGIN:STANDARD
TZOFFSETFROM:-0500
TZOFFSETTO:-0600
TZNAME:CST
DTSTART:20271107T070000
END:STANDARD
END:VTIMEZONE
BEGIN:VEVENT
DTSTART;TZID=America/Chicago:20260107T100000
DTEND;TZID=America/Chicago:20260107T130000
DTSTAMP:20260425T063250
CREATED:20251204T012347Z
LAST-MODIFIED:20251204T013153Z
UID:10002050-1767780000-1767790800@julierenee.com
SUMMARY:Pure Potential - Belonging: This is Our Realm\, We are the Children of the Creator!
DESCRIPTION:
URL:https://julierenee.com/training/pure-potential-belonging-this-is-our-realm-we-are-the-children-of-the-creator-2/
END:VEVENT
BEGIN:VEVENT
DTSTART;TZID=America/Chicago:20260107T123000
DTEND;TZID=America/Chicago:20260107T163000
DTSTAMP:20260425T063250
CREATED:20251203T232628Z
LAST-MODIFIED:20251203T232628Z
UID:10002040-1767789000-1767803400@julierenee.com
SUMMARY:Reclaiming the Body
DESCRIPTION:
URL:https://julierenee.com/training/reclaiming-the-body-2/
END:VEVENT
END:VCALENDAR