BEGIN:VCALENDAR
VERSION:2.0
PRODID:-//Julie Renee - ECPv6.15.13//NONSGML v1.0//EN
CALSCALE:GREGORIAN
METHOD:PUBLISH
X-WR-CALNAME:Julie Renee
X-ORIGINAL-URL:https://julierenee.com
X-WR-CALDESC:Events for Julie Renee
REFRESH-INTERVAL;VALUE=DURATION:PT1H
X-Robots-Tag:noindex
X-PUBLISHED-TTL:PT1H
BEGIN:VTIMEZONE
TZID:America/Chicago
BEGIN:DAYLIGHT
TZOFFSETFROM:-0600
TZOFFSETTO:-0500
TZNAME:CDT
DTSTART:20250309T080000
END:DAYLIGHT
BEGIN:STANDARD
TZOFFSETFROM:-0500
TZOFFSETTO:-0600
TZNAME:CST
DTSTART:20251102T070000
END:STANDARD
BEGIN:DAYLIGHT
TZOFFSETFROM:-0600
TZOFFSETTO:-0500
TZNAME:CDT
DTSTART:20260308T080000
END:DAYLIGHT
BEGIN:STANDARD
TZOFFSETFROM:-0500
TZOFFSETTO:-0600
TZNAME:CST
DTSTART:20261101T070000
END:STANDARD
BEGIN:DAYLIGHT
TZOFFSETFROM:-0600
TZOFFSETTO:-0500
TZNAME:CDT
DTSTART:20270314T080000
END:DAYLIGHT
BEGIN:STANDARD
TZOFFSETFROM:-0500
TZOFFSETTO:-0600
TZNAME:CST
DTSTART:20271107T070000
END:STANDARD
END:VTIMEZONE
BEGIN:VEVENT
DTSTART;TZID=America/Chicago:20260422T100000
DTEND;TZID=America/Chicago:20260422T130000
DTSTAMP:20260422T013844
CREATED:20251203T232841Z
LAST-MODIFIED:20251203T232841Z
UID:10002044-1776852000-1776862800@julierenee.com
SUMMARY:Reclaiming the Body
DESCRIPTION:
URL:https://julierenee.com/training/reclaiming-the-body-6/
END:VEVENT
BEGIN:VEVENT
DTSTART;TZID=America/Chicago:20260422T133000
DTEND;TZID=America/Chicago:20260422T163000
DTSTAMP:20260422T013844
CREATED:20260326T010813Z
LAST-MODIFIED:20260326T010813Z
UID:10002238-1776864600-1776875400@julierenee.com
SUMMARY:Demon Drop
DESCRIPTION:
URL:https://julierenee.com/training/demon-drop-4/
END:VEVENT
END:VCALENDAR