BEGIN:VCALENDAR
VERSION:2.0
PRODID:-//Julie Renee - ECPv6.15.13//NONSGML v1.0//EN
CALSCALE:GREGORIAN
METHOD:PUBLISH
X-WR-CALNAME:Julie Renee
X-ORIGINAL-URL:https://julierenee.com
X-WR-CALDESC:Events for Julie Renee
REFRESH-INTERVAL;VALUE=DURATION:PT1H
X-Robots-Tag:noindex
X-PUBLISHED-TTL:PT1H
BEGIN:VTIMEZONE
TZID:America/Chicago
BEGIN:DAYLIGHT
TZOFFSETFROM:-0600
TZOFFSETTO:-0500
TZNAME:CDT
DTSTART:20180311T080000
END:DAYLIGHT
BEGIN:STANDARD
TZOFFSETFROM:-0500
TZOFFSETTO:-0600
TZNAME:CST
DTSTART:20181104T070000
END:STANDARD
BEGIN:DAYLIGHT
TZOFFSETFROM:-0600
TZOFFSETTO:-0500
TZNAME:CDT
DTSTART:20190310T080000
END:DAYLIGHT
BEGIN:STANDARD
TZOFFSETFROM:-0500
TZOFFSETTO:-0600
TZNAME:CST
DTSTART:20191103T070000
END:STANDARD
BEGIN:DAYLIGHT
TZOFFSETFROM:-0600
TZOFFSETTO:-0500
TZNAME:CDT
DTSTART:20200308T080000
END:DAYLIGHT
BEGIN:STANDARD
TZOFFSETFROM:-0500
TZOFFSETTO:-0600
TZNAME:CST
DTSTART:20201101T070000
END:STANDARD
END:VTIMEZONE
BEGIN:VEVENT
DTSTART;TZID=America/Chicago:20190326T110000
DTEND;TZID=America/Chicago:20190326T113000
DTSTAMP:20260419T112137
CREATED:20190307T203058Z
LAST-MODIFIED:20190307T220708Z
UID:10000368-1553598000-1553599800@julierenee.com
SUMMARY:Spring Renewal Celebration
DESCRIPTION:
URL:https://julierenee.com/training/spring-renewal-celebration/
END:VEVENT
BEGIN:VEVENT
DTSTART;TZID=America/Chicago:20190321T110000
DTEND;TZID=America/Chicago:20190321T130000
DTSTAMP:20260419T112137
CREATED:20180814T222120Z
LAST-MODIFIED:20181212T143545Z
UID:10000204-1553166000-1553173200@julierenee.com
SUMMARY:Mastering the Quantum Pump
DESCRIPTION:
URL:https://julierenee.com/training/mastering-the-quantum-pump-2/
END:VEVENT
BEGIN:VEVENT
DTSTART;TZID=America/Chicago:20190320T120000
DTEND;TZID=America/Chicago:20190320T130000
DTSTAMP:20260419T112137
CREATED:20180814T231909Z
LAST-MODIFIED:20181218T220357Z
UID:10000254-1553083200-1553086800@julierenee.com
SUMMARY:Seven Stages of Love
DESCRIPTION:
URL:https://julierenee.com/training/seven-stages-of-love-apprentice-4/
END:VEVENT
BEGIN:VEVENT
DTSTART;TZID=America/Chicago:20190319T120000
DTEND;TZID=America/Chicago:20190319T130000
DTSTAMP:20260419T112137
CREATED:20180814T213424Z
LAST-MODIFIED:20181212T142622Z
UID:10000175-1552996800-1553000400@julierenee.com
SUMMARY:Everyday Magnetism
DESCRIPTION:
URL:https://julierenee.com/training/everyday-magnetism-7/
END:VEVENT
BEGIN:VEVENT
DTSTART;TZID=America/Chicago:20190315T100000
DTEND;TZID=America/Chicago:20190315T130000
DTSTAMP:20260419T112137
CREATED:20180815T000904Z
LAST-MODIFIED:20190301T165013Z
UID:10000300-1552644000-1552654800@julierenee.com
SUMMARY:Year of Miracles: Cardio\, Circulation & Lymph
DESCRIPTION:
URL:https://julierenee.com/training/year-of-miracles-flexible-healthy-joints/
END:VEVENT
BEGIN:VEVENT
DTSTART;TZID=America/Chicago:20190314T110000
DTEND;TZID=America/Chicago:20190314T130000
DTSTAMP:20260419T112137
CREATED:20181212T143824Z
LAST-MODIFIED:20181218T220305Z
UID:10000348-1552561200-1552568400@julierenee.com
SUMMARY:Beautiful Sexy Skin
DESCRIPTION:
URL:https://julierenee.com/training/sexy-skin/
END:VEVENT
BEGIN:VEVENT
DTSTART;TZID=America/Chicago:20190313T120000
DTEND;TZID=America/Chicago:20190313T130000
DTSTAMP:20260419T112137
CREATED:20180814T231832Z
LAST-MODIFIED:20181212T142222Z
UID:10000253-1552478400-1552482000@julierenee.com
SUMMARY:Seven Stages of Love Apprentice
DESCRIPTION:
URL:https://julierenee.com/training/seven-stages-of-love-apprentice-3/
END:VEVENT
BEGIN:VEVENT
DTSTART;TZID=America/Chicago:20190312T120000
DTEND;TZID=America/Chicago:20190312T130000
DTSTAMP:20260419T112137
CREATED:20180814T213322Z
LAST-MODIFIED:20181212T142543Z
UID:10000174-1552392000-1552395600@julierenee.com
SUMMARY:Everyday Magnetism
DESCRIPTION:
URL:https://julierenee.com/training/everyday-magnetism-6/
END:VEVENT
BEGIN:VEVENT
DTSTART;TZID=America/Chicago:20190307T110000
DTEND;TZID=America/Chicago:20190307T130000
DTSTAMP:20260419T112137
CREATED:20180814T204253Z
LAST-MODIFIED:20181212T143150Z
UID:10000145-1551956400-1551963600@julierenee.com
SUMMARY:Better Sleep
DESCRIPTION:
URL:https://julierenee.com/training/better-sleep-2/
END:VEVENT
BEGIN:VEVENT
DTSTART;TZID=America/Chicago:20190306T120000
DTEND;TZID=America/Chicago:20190306T130000
DTSTAMP:20260419T112137
CREATED:20180814T231800Z
LAST-MODIFIED:20181218T220326Z
UID:10000252-1551873600-1551877200@julierenee.com
SUMMARY:Seven Stages of Love
DESCRIPTION:
URL:https://julierenee.com/training/seven-stages-of-love-apprentice-2/
END:VEVENT
BEGIN:VEVENT
DTSTART;TZID=America/Chicago:20190305T120000
DTEND;TZID=America/Chicago:20190305T130000
DTSTAMP:20260419T112137
CREATED:20180814T213238Z
LAST-MODIFIED:20181212T142409Z
UID:10000173-1551787200-1551790800@julierenee.com
SUMMARY:Everyday Magnetism
DESCRIPTION:
URL:https://julierenee.com/training/everyday-magnetism-5/
END:VEVENT
BEGIN:VEVENT
DTSTART;TZID=America/Chicago:20190304T110000
DTEND;TZID=America/Chicago:20190304T130000
DTSTAMP:20260419T112137
CREATED:20180814T210642Z
LAST-MODIFIED:20180910T180759Z
UID:10000158-1551697200-1551704400@julierenee.com
SUMMARY:DNA of Peace: Community Training
DESCRIPTION:
URL:https://julierenee.com/training/dna-of-peace-community-training/
END:VEVENT
BEGIN:VEVENT
DTSTART;TZID=America/Chicago:20190228T120000
DTEND;TZID=America/Chicago:20190228T130000
DTSTAMP:20260419T112137
CREATED:20181212T150748Z
LAST-MODIFIED:20181212T150748Z
UID:10000356-1551355200-1551358800@julierenee.com
SUMMARY:Karma Clearing
DESCRIPTION:
URL:https://julierenee.com/training/karma-clearing-8/
END:VEVENT
BEGIN:VEVENT
DTSTART;TZID=America/Chicago:20190227T120000
DTEND;TZID=America/Chicago:20190227T130000
DTSTAMP:20260419T112137
CREATED:20181212T150706Z
LAST-MODIFIED:20181212T150706Z
UID:10000355-1551268800-1551272400@julierenee.com
SUMMARY:Karma Clearing
DESCRIPTION:
URL:https://julierenee.com/training/karma-clearing-7/
END:VEVENT
BEGIN:VEVENT
DTSTART;TZID=America/Chicago:20190226T120000
DTEND;TZID=America/Chicago:20190226T130000
DTSTAMP:20260419T112137
CREATED:20180814T222843Z
LAST-MODIFIED:20181211T221307Z
UID:10000209-1551182400-1551186000@julierenee.com
SUMMARY:Origins of Humanity
DESCRIPTION:
URL:https://julierenee.com/training/origins-of-humanity-4/
END:VEVENT
BEGIN:VEVENT
DTSTART;TZID=America/Chicago:20190221T120000
DTEND;TZID=America/Chicago:20190221T130000
DTSTAMP:20260419T112137
CREATED:20181212T150626Z
LAST-MODIFIED:20181212T150626Z
UID:10000354-1550750400-1550754000@julierenee.com
SUMMARY:Karma Clearing
DESCRIPTION:
URL:https://julierenee.com/training/karma-clearing-6/
END:VEVENT
BEGIN:VEVENT
DTSTART;TZID=America/Chicago:20190220T120000
DTEND;TZID=America/Chicago:20190220T130000
DTSTAMP:20260419T112137
CREATED:20181212T150526Z
LAST-MODIFIED:20181212T150554Z
UID:10000353-1550664000-1550667600@julierenee.com
SUMMARY:Karma Clearing
DESCRIPTION:
URL:https://julierenee.com/training/karma-clearing-5/
END:VEVENT
BEGIN:VEVENT
DTSTART;TZID=America/Chicago:20190219T120000
DTEND;TZID=America/Chicago:20190219T130000
DTSTAMP:20260419T112137
CREATED:20181206T125137Z
LAST-MODIFIED:20181206T125137Z
UID:10000345-1550577600-1550581200@julierenee.com
SUMMARY:Origins of Humanity
DESCRIPTION:
URL:https://julierenee.com/training/origins-of-humanity/
END:VEVENT
BEGIN:VEVENT
DTSTART;TZID=America/Chicago:20190212T131500
DTEND;TZID=America/Chicago:20190212T140000
DTSTAMP:20260419T112137
CREATED:20180814T204057Z
LAST-MODIFIED:20190208T172707Z
UID:10000143-1549977300-1549980000@julierenee.com
SUMMARY:Best Year Ever - Special Apprentice Training
DESCRIPTION:
URL:https://julierenee.com/training/best-year-ever-special-apprentice-training/
END:VEVENT
BEGIN:VEVENT
DTSTART;TZID=America/Chicago:20190212T120000
DTEND;TZID=America/Chicago:20190212T130000
DTSTAMP:20260419T112137
CREATED:20180814T222956Z
LAST-MODIFIED:20181206T125035Z
UID:10000210-1549972800-1549976400@julierenee.com
SUMMARY:Origins of Humanity
DESCRIPTION:
URL:https://julierenee.com/training/origins-of-humanity-6/
END:VEVENT
BEGIN:VEVENT
DTSTART;TZID=America/Chicago:20190207T120000
DTEND;TZID=America/Chicago:20190207T130000
DTSTAMP:20260419T112137
CREATED:20181118T184850Z
LAST-MODIFIED:20181118T184850Z
UID:10000339-1549540800-1549544400@julierenee.com
SUMMARY:Clearing Statements & the Nature Of
DESCRIPTION:
URL:https://julierenee.com/training/clearing-statements-the-nature-of-2/
END:VEVENT
BEGIN:VEVENT
DTSTART;TZID=America/Chicago:20190204T110000
DTEND;TZID=America/Chicago:20190204T130000
DTSTAMP:20260419T112137
CREATED:20180814T203527Z
LAST-MODIFIED:20180907T195546Z
UID:10000137-1549278000-1549285200@julierenee.com
SUMMARY:Belonging: Community Training
DESCRIPTION:
URL:https://julierenee.com/training/belonging-community-training/
END:VEVENT
BEGIN:VEVENT
DTSTART;TZID=America/Chicago:20190201T120000
DTEND;TZID=America/Chicago:20190201T130000
DTSTAMP:20260419T112137
CREATED:20181221T152110Z
LAST-MODIFIED:20181221T152110Z
UID:10000358-1549022400-1549026000@julierenee.com
SUMMARY:Baby Boy Sprinkle
DESCRIPTION:
URL:https://julierenee.com/training/baby-boy-sprinkle/
END:VEVENT
BEGIN:VEVENT
DTSTART;TZID=America/Chicago:20190131T120000
DTEND;TZID=America/Chicago:20190131T130000
DTSTAMP:20260419T112137
CREATED:20181118T184802Z
LAST-MODIFIED:20181118T184802Z
UID:10000338-1548936000-1548939600@julierenee.com
SUMMARY:Cleating Statements & the Nature of
DESCRIPTION:
URL:https://julierenee.com/training/cleating-statements-the-nature-of/
END:VEVENT
BEGIN:VEVENT
DTSTART;TZID=America/Chicago:20190129T120000
DTEND;TZID=America/Chicago:20190129T130000
DTSTAMP:20260419T112137
CREATED:20181116T175139Z
LAST-MODIFIED:20190111T084810Z
UID:10000336-1548763200-1548766800@julierenee.com
SUMMARY:Blueprint Basics
DESCRIPTION:
URL:https://julierenee.com/training/understanding-the-blueprint-core-4/
END:VEVENT
BEGIN:VEVENT
DTSTART;TZID=America/Chicago:20190124T120000
DTEND;TZID=America/Chicago:20190124T130000
DTSTAMP:20260419T112137
CREATED:20181118T184646Z
LAST-MODIFIED:20181118T184646Z
UID:10000337-1548331200-1548334800@julierenee.com
SUMMARY:Clearing Statements & the Nature Of
DESCRIPTION:
URL:https://julierenee.com/training/clearing-statements-the-nature-of/
END:VEVENT
BEGIN:VEVENT
DTSTART;TZID=America/Chicago:20190123T120000
DTEND;TZID=America/Chicago:20190123T130000
DTSTAMP:20260419T112137
CREATED:20180814T200940Z
LAST-MODIFIED:20181116T100305Z
UID:10000124-1548244800-1548248400@julierenee.com
SUMMARY:Accelerate Wealth Live
DESCRIPTION:
URL:https://julierenee.com/training/accelerate-wealth-live-4/
END:VEVENT
BEGIN:VEVENT
DTSTART;TZID=America/Chicago:20190122T120000
DTEND;TZID=America/Chicago:20190122T130000
DTSTAMP:20260419T112137
CREATED:20181116T175102Z
LAST-MODIFIED:20190111T084756Z
UID:10000335-1548158400-1548162000@julierenee.com
SUMMARY:Blueprint Basics
DESCRIPTION:
URL:https://julierenee.com/training/understanding-the-blueprint-core-3/
END:VEVENT
BEGIN:VEVENT
DTSTART;TZID=America/Chicago:20190117T110000
DTEND;TZID=America/Chicago:20190117T130000
DTSTAMP:20260419T112137
CREATED:20190111T025604Z
LAST-MODIFIED:20190111T025604Z
UID:10000363-1547722800-1547730000@julierenee.com
SUMMARY:Love Detox
DESCRIPTION:
URL:https://julierenee.com/training/love-detox/
END:VEVENT
BEGIN:VEVENT
DTSTART;TZID=America/Chicago:20190116T120000
DTEND;TZID=America/Chicago:20190116T130000
DTSTAMP:20260419T112137
CREATED:20180814T200900Z
LAST-MODIFIED:20181116T100243Z
UID:10000123-1547640000-1547643600@julierenee.com
SUMMARY:Accelerate Wealth Live
DESCRIPTION:
URL:https://julierenee.com/training/accelerate-wealth-live-3/
END:VEVENT
END:VCALENDAR