BEGIN:VCALENDAR
VERSION:2.0
PRODID:-//Julie Renee - ECPv6.15.13//NONSGML v1.0//EN
CALSCALE:GREGORIAN
METHOD:PUBLISH
X-ORIGINAL-URL:https://julierenee.com
X-WR-CALDESC:Events for Julie Renee
REFRESH-INTERVAL;VALUE=DURATION:PT1H
X-Robots-Tag:noindex
X-PUBLISHED-TTL:PT1H
BEGIN:VTIMEZONE
TZID:America/Chicago
BEGIN:DAYLIGHT
TZOFFSETFROM:-0600
TZOFFSETTO:-0500
TZNAME:CDT
DTSTART:20170312T080000
END:DAYLIGHT
BEGIN:STANDARD
TZOFFSETFROM:-0500
TZOFFSETTO:-0600
TZNAME:CST
DTSTART:20171105T070000
END:STANDARD
BEGIN:DAYLIGHT
TZOFFSETFROM:-0600
TZOFFSETTO:-0500
TZNAME:CDT
DTSTART:20180311T080000
END:DAYLIGHT
BEGIN:STANDARD
TZOFFSETFROM:-0500
TZOFFSETTO:-0600
TZNAME:CST
DTSTART:20181104T070000
END:STANDARD
BEGIN:DAYLIGHT
TZOFFSETFROM:-0600
TZOFFSETTO:-0500
TZNAME:CDT
DTSTART:20190310T080000
END:DAYLIGHT
BEGIN:STANDARD
TZOFFSETFROM:-0500
TZOFFSETTO:-0600
TZNAME:CST
DTSTART:20191103T070000
END:STANDARD
BEGIN:DAYLIGHT
TZOFFSETFROM:-0600
TZOFFSETTO:-0500
TZNAME:CDT
DTSTART:20200308T080000
END:DAYLIGHT
BEGIN:STANDARD
TZOFFSETFROM:-0500
TZOFFSETTO:-0600
TZNAME:CST
DTSTART:20201101T070000
END:STANDARD
END:VTIMEZONE
BEGIN:VEVENT
DTSTART;TZID=America/Chicago:20190102T120000
DTEND;TZID=America/Chicago:20190102T130000
DTSTAMP:20260419T162140
CREATED:20180814T200742Z
LAST-MODIFIED:20181116T100055Z
UID:10000121-1546430400-1546434000@julierenee.com
SUMMARY:Accelerate Wealth Live
DESCRIPTION:
URL:https://julierenee.com/training/accelerate-wealth-live/
END:VEVENT
BEGIN:VEVENT
DTSTART;TZID=America/Chicago:20190101T140000
DTEND;TZID=America/Chicago:20190101T160000
DTSTAMP:20260419T162140
CREATED:20180815T002004Z
LAST-MODIFIED:20181017T143437Z
UID:10000316-1546351200-1546358400@julierenee.com
SUMMARY:Your Best Year Yet: Community Training
DESCRIPTION:
URL:https://julierenee.com/training/your-best-year-yet-community-training/
END:VEVENT
BEGIN:VEVENT
DTSTART;TZID=America/Chicago:20181231T120000
DTEND;TZID=America/Chicago:20181231T130000
DTSTAMP:20260419T162140
CREATED:20181203T130902Z
LAST-MODIFIED:20181214T152747Z
UID:10000341-1546257600-1546261200@julierenee.com
SUMMARY:FREE: Community Gathering
DESCRIPTION:
URL:https://julierenee.com/training/community-gathering/
END:VEVENT
BEGIN:VEVENT
DTSTART;TZID=America/Chicago:20181219T150000
DTEND;TZID=America/Chicago:20181219T153000
DTSTAMP:20260419T162140
CREATED:20180814T221515Z
LAST-MODIFIED:20180917T191211Z
UID:10000196-1545231600-1545233400@julierenee.com
SUMMARY:Leadership Council Meeting
DESCRIPTION:
URL:https://julierenee.com/training/leadership-council-meeting-2/
END:VEVENT
BEGIN:VEVENT
DTSTART;TZID=America/Chicago:20181219T110000
DTEND;TZID=America/Chicago:20181219T120000
DTSTAMP:20260419T162140
CREATED:20180814T224925Z
LAST-MODIFIED:20180814T224925Z
UID:10000224-1545217200-1545220800@julierenee.com
SUMMARY:Quantum Regeneration
DESCRIPTION:
URL:https://julierenee.com/training/quantum-regeneration-3/
END:VEVENT
BEGIN:VEVENT
DTSTART;TZID=America/Chicago:20181218T140000
DTEND;TZID=America/Chicago:20181218T160000
DTSTAMP:20260419T162140
CREATED:20180814T205113Z
LAST-MODIFIED:20181017T143416Z
UID:10000148-1545141600-1545148800@julierenee.com
SUMMARY:Complete Money Manifesto: Community Training
DESCRIPTION:
URL:https://julierenee.com/training/complete-money-manifesto-community-training/
END:VEVENT
BEGIN:VEVENT
DTSTART;TZID=America/Chicago:20181217T110000
DTEND;TZID=America/Chicago:20181217T130000
DTSTAMP:20260419T162140
CREATED:20180814T220053Z
LAST-MODIFIED:20181129T030752Z
UID:10000190-1545044400-1545051600@julierenee.com
SUMMARY:Breath of Life: Pranic Breath
DESCRIPTION:
URL:https://julierenee.com/training/breath-of-life/
END:VEVENT
BEGIN:VEVENT
DTSTART;TZID=America/Chicago:20181213T110000
DTEND;TZID=America/Chicago:20181213T120000
DTSTAMP:20260419T162140
CREATED:20180814T230657Z
LAST-MODIFIED:20180814T230657Z
UID:10000242-1544698800-1544702400@julierenee.com
SUMMARY:Quantum Transformation: Clearing with Meditation & Charts
DESCRIPTION:
URL:https://julierenee.com/training/quantum-transformation-clearing-with-meditation-charts-4/
END:VEVENT
BEGIN:VEVENT
DTSTART;TZID=America/Chicago:20181212T110000
DTEND;TZID=America/Chicago:20181212T130000
DTSTAMP:20260419T162140
CREATED:20180814T224829Z
LAST-MODIFIED:20180814T224829Z
UID:10000223-1544612400-1544619600@julierenee.com
SUMMARY:Quantum Regeneration
DESCRIPTION:
URL:https://julierenee.com/training/quantum-regeneration-2/
END:VEVENT
BEGIN:VEVENT
DTSTART;TZID=America/Chicago:20181211T120000
DTEND;TZID=America/Chicago:20181211T130000
DTSTAMP:20260419T162140
CREATED:20181030T143211Z
LAST-MODIFIED:20181119T161054Z
UID:10000332-1544529600-1544533200@julierenee.com
SUMMARY:How to Remove Entitlements & Get Free
DESCRIPTION:
URL:https://julierenee.com/training/how-to-remove-entitlements-get-free-3/
END:VEVENT
BEGIN:VEVENT
DTSTART;TZID=America/Chicago:20181207T100000
DTEND;TZID=America/Chicago:20181207T130000
DTSTAMP:20260419T162140
CREATED:20180815T001713Z
LAST-MODIFIED:20181030T200807Z
UID:10000312-1544176800-1544187600@julierenee.com
SUMMARY:Year of Miracles: Healthy Bones & Muscles
DESCRIPTION:
URL:https://julierenee.com/training/year-of-miracles-skin-nails-hair/
END:VEVENT
BEGIN:VEVENT
DTSTART;TZID=America/Chicago:20181206T110000
DTEND;TZID=America/Chicago:20181206T120000
DTSTAMP:20260419T162140
CREATED:20180814T230618Z
LAST-MODIFIED:20180814T230618Z
UID:10000241-1544094000-1544097600@julierenee.com
SUMMARY:Quantum Transformation: Clearing with Meditation & Charts
DESCRIPTION:
URL:https://julierenee.com/training/quantum-transformation-clearing-with-meditation-charts-3/
END:VEVENT
BEGIN:VEVENT
DTSTART;TZID=America/Chicago:20181205T110000
DTEND;TZID=America/Chicago:20181205T130000
DTSTAMP:20260419T162140
CREATED:20180814T224749Z
LAST-MODIFIED:20180814T224749Z
UID:10000222-1544007600-1544014800@julierenee.com
SUMMARY:Quantum Regeneration
DESCRIPTION:
URL:https://julierenee.com/training/quantum-regeneration/
END:VEVENT
BEGIN:VEVENT
DTSTART;TZID=America/Chicago:20181204T120000
DTEND;TZID=America/Chicago:20181204T130000
DTSTAMP:20260419T162140
CREATED:20181024T195917Z
LAST-MODIFIED:20181030T104138Z
UID:10000330-1543924800-1543928400@julierenee.com
SUMMARY:How to Remove Entitlements & Get Free
DESCRIPTION:
URL:https://julierenee.com/training/how-to-remove-entitlements/
END:VEVENT
BEGIN:VEVENT
DTSTART;TZID=America/Chicago:20181203T130000
DTEND;TZID=America/Chicago:20181203T134500
DTSTAMP:20260419T162140
CREATED:20180814T215338Z
LAST-MODIFIED:20180917T191111Z
UID:10000185-1543842000-1543844700@julierenee.com
SUMMARY:Giving & Receiving - Special Apprentice Training
DESCRIPTION:
URL:https://julierenee.com/training/giving-receiving-special-apprentice-training/
END:VEVENT
BEGIN:VEVENT
DTSTART;TZID=America/Chicago:20181130T110000
DTEND;TZID=America/Chicago:20181130T123000
DTSTAMP:20260419T162140
CREATED:20181127T225649Z
LAST-MODIFIED:20181127T225649Z
UID:10000340-1543575600-1543581000@julierenee.com
SUMMARY:Year of Miracles: Brain Sequencing
DESCRIPTION:
URL:https://julierenee.com/training/year-of-miracles-brain-sequencing/
END:VEVENT
BEGIN:VEVENT
DTSTART;TZID=America/Chicago:20181129T110000
DTEND;TZID=America/Chicago:20181129T120000
DTSTAMP:20260419T162140
CREATED:20180814T230541Z
LAST-MODIFIED:20180814T230541Z
UID:10000240-1543489200-1543492800@julierenee.com
SUMMARY:Quantum Transformation: Clearing with Meditation & Charts
DESCRIPTION:
URL:https://julierenee.com/training/quantum-transformation-clearing-with-meditation-charts-2/
END:VEVENT
BEGIN:VEVENT
DTSTART;TZID=America/Chicago:20181128T110000
DTEND;TZID=America/Chicago:20181128T130000
DTSTAMP:20260419T162140
CREATED:20180814T210006Z
LAST-MODIFIED:20180814T210006Z
UID:10000154-1543402800-1543410000@julierenee.com
SUMMARY:Disappearing Tumors Cysts\, Growths and Scarring
DESCRIPTION:
URL:https://julierenee.com/training/disappearing-tumors-cysts-growths-and-scarring-3/
END:VEVENT
BEGIN:VEVENT
DTSTART;TZID=America/Chicago:20181127T110000
DTEND;TZID=America/Chicago:20181127T130000
DTSTAMP:20260419T162140
CREATED:20180814T231207Z
LAST-MODIFIED:20180814T231207Z
UID:10000247-1543316400-1543323600@julierenee.com
SUMMARY:Removing Violence & Abuse
DESCRIPTION:
URL:https://julierenee.com/training/removing-violence-abuse-2/
END:VEVENT
BEGIN:VEVENT
DTSTART;TZID=America/Chicago:20181126T120000
DTEND;TZID=America/Chicago:20181126T130000
DTSTAMP:20260419T162140
CREATED:20181029T191724Z
LAST-MODIFIED:20181030T103929Z
UID:10000331-1543233600-1543237200@julierenee.com
SUMMARY:How to Remove Entitlements & Get Free
DESCRIPTION:
URL:https://julierenee.com/training/how-to-remove-entitlements-get-free-2/
END:VEVENT
BEGIN:VEVENT
DTSTART;TZID=America/Chicago:20181121T110000
DTEND;TZID=America/Chicago:20181121T120000
DTSTAMP:20260419T162140
CREATED:20180814T205931Z
LAST-MODIFIED:20180814T205931Z
UID:10000153-1542798000-1542801600@julierenee.com
SUMMARY:Disappearing Tumors Cysts\, Growths and Scarring
DESCRIPTION:
URL:https://julierenee.com/training/disappearing-tumors-cysts-growths-and-scarring-2/
END:VEVENT
BEGIN:VEVENT
DTSTART;TZID=America/Chicago:20181120T110000
DTEND;TZID=America/Chicago:20181120T130000
DTSTAMP:20260419T162140
CREATED:20180814T231126Z
LAST-MODIFIED:20180814T231126Z
UID:10000246-1542711600-1542718800@julierenee.com
SUMMARY:Removing Violence & Abuse
DESCRIPTION:
URL:https://julierenee.com/training/removing-violence-abuse/
END:VEVENT
BEGIN:VEVENT
DTSTART;TZID=America/Chicago:20181116T100000
DTEND;TZID=America/Chicago:20181116T130000
DTSTAMP:20260419T162140
CREATED:20180815T001149Z
LAST-MODIFIED:20181030T200744Z
UID:10000304-1542362400-1542373200@julierenee.com
SUMMARY:Year of Miracles: Hair\, Skin & Nails
DESCRIPTION:
URL:https://julierenee.com/training/year-of-miracles-healthy-bones-muscles/
END:VEVENT
BEGIN:VEVENT
DTSTART;TZID=America/Chicago:20181115T110000
DTEND;TZID=America/Chicago:20181115T120000
DTSTAMP:20260419T162140
CREATED:20180814T230501Z
LAST-MODIFIED:20180814T230501Z
UID:10000239-1542279600-1542283200@julierenee.com
SUMMARY:Quantum Transformation: Clearing with Meditation & Charts
DESCRIPTION:
URL:https://julierenee.com/training/quantum-transformation-clearing-with-meditation-charts/
END:VEVENT
BEGIN:VEVENT
DTSTART;TZID=America/Chicago:20181114T110000
DTEND;TZID=America/Chicago:20181114T120000
DTSTAMP:20260419T162140
CREATED:20180814T205851Z
LAST-MODIFIED:20181001T102806Z
UID:10000152-1542193200-1542196800@julierenee.com
SUMMARY:Disappearing Tumors Cysts\, Growths and Scarring
DESCRIPTION:
URL:https://julierenee.com/training/disappearing-tumors-cysts-growths-and-scarring/
END:VEVENT
BEGIN:VEVENT
DTSTART;TZID=America/Chicago:20181031T110000
DTEND;TZID=America/Chicago:20181031T130000
DTSTAMP:20260419T162140
CREATED:20180814T223039Z
LAST-MODIFIED:20180917T182756Z
UID:10000211-1540983600-1540990800@julierenee.com
SUMMARY:Orks\, Dwarfs and Dark Wizards
DESCRIPTION:
URL:https://julierenee.com/training/orks-dwarfs-and-dark-wizards/
END:VEVENT
BEGIN:VEVENT
DTSTART;TZID=America/Chicago:20181030T120000
DTEND;TZID=America/Chicago:20181030T130000
DTSTAMP:20260419T162140
CREATED:20181016T151218Z
LAST-MODIFIED:20181016T151218Z
UID:10000329-1540900800-1540904400@julierenee.com
SUMMARY:100% Clear
DESCRIPTION:
URL:https://julierenee.com/training/100-clear-8/
END:VEVENT
BEGIN:VEVENT
DTSTART;TZID=America/Chicago:20181029T130000
DTEND;TZID=America/Chicago:20181029T150000
DTSTAMP:20260419T162140
CREATED:20180814T222343Z
LAST-MODIFIED:20181024T142327Z
UID:10000206-1540818000-1540825200@julierenee.com
SUMMARY:Muscle Testing 201
DESCRIPTION:
URL:https://julierenee.com/training/muscle-testing-101-2/
END:VEVENT
BEGIN:VEVENT
DTSTART;TZID=America/Chicago:20181025T110000
DTEND;TZID=America/Chicago:20181025T130000
DTSTAMP:20260419T162140
CREATED:20180814T222044Z
LAST-MODIFIED:20180814T222044Z
UID:10000203-1540465200-1540472400@julierenee.com
SUMMARY:Mastering the Quantum Pump
DESCRIPTION:
URL:https://julierenee.com/training/mastering-the-quantum-pump/
END:VEVENT
BEGIN:VEVENT
DTSTART;TZID=America/Chicago:20181024T120000
DTEND;TZID=America/Chicago:20181024T130000
DTSTAMP:20260419T162140
CREATED:20180814T193956Z
LAST-MODIFIED:20181016T151130Z
UID:10000103-1540382400-1540386000@julierenee.com
SUMMARY:100% Clear
DESCRIPTION:
URL:https://julierenee.com/training/100-clear-5/
END:VEVENT
END:VCALENDAR