BEGIN:VCALENDAR
VERSION:2.0
PRODID:-//Julie Renee - ECPv6.15.13//NONSGML v1.0//EN
CALSCALE:GREGORIAN
METHOD:PUBLISH
X-ORIGINAL-URL:https://julierenee.com
X-WR-CALDESC:Events for Julie Renee
REFRESH-INTERVAL;VALUE=DURATION:PT1H
X-Robots-Tag:noindex
X-PUBLISHED-TTL:PT1H
BEGIN:VTIMEZONE
TZID:America/Chicago
BEGIN:DAYLIGHT
TZOFFSETFROM:-0600
TZOFFSETTO:-0500
TZNAME:CDT
DTSTART:20170312T080000
END:DAYLIGHT
BEGIN:STANDARD
TZOFFSETFROM:-0500
TZOFFSETTO:-0600
TZNAME:CST
DTSTART:20171105T070000
END:STANDARD
BEGIN:DAYLIGHT
TZOFFSETFROM:-0600
TZOFFSETTO:-0500
TZNAME:CDT
DTSTART:20180311T080000
END:DAYLIGHT
BEGIN:STANDARD
TZOFFSETFROM:-0500
TZOFFSETTO:-0600
TZNAME:CST
DTSTART:20181104T070000
END:STANDARD
BEGIN:DAYLIGHT
TZOFFSETFROM:-0600
TZOFFSETTO:-0500
TZNAME:CDT
DTSTART:20190310T080000
END:DAYLIGHT
BEGIN:STANDARD
TZOFFSETFROM:-0500
TZOFFSETTO:-0600
TZNAME:CST
DTSTART:20191103T070000
END:STANDARD
END:VTIMEZONE
BEGIN:VEVENT
DTSTART;TZID=America/Chicago:20180823T110000
DTEND;TZID=America/Chicago:20180823T110000
DTSTAMP:20260420T002721
CREATED:20180814T225500Z
LAST-MODIFIED:20180814T225500Z
UID:10000227-1535022000-1535022000@julierenee.com
SUMMARY:Quantum Removal of Infections
DESCRIPTION:
URL:https://julierenee.com/training/quantum-removal-of-infections-3/
END:VEVENT
BEGIN:VEVENT
DTSTART;TZID=America/Chicago:20180822T110000
DTEND;TZID=America/Chicago:20180822T120000
DTSTAMP:20260420T002721
CREATED:20180814T230309Z
LAST-MODIFIED:20180814T230309Z
UID:10000237-1534935600-1534939200@julierenee.com
SUMMARY:Quantum Shift of Arthritis
DESCRIPTION:
URL:https://julierenee.com/training/quantum-shift-of-arthritis-4/
END:VEVENT
BEGIN:VEVENT
DTSTART;TZID=America/Chicago:20180821T110000
DTEND;TZID=America/Chicago:20180821T120000
DTSTAMP:20260420T002721
CREATED:20180814T235251Z
LAST-MODIFIED:20180814T235251Z
UID:10000290-1534849200-1534852800@julierenee.com
SUMMARY:Understanding Anchors
DESCRIPTION:
URL:https://julierenee.com/training/understanding-anchors-3/
END:VEVENT
BEGIN:VEVENT
DTSTART;TZID=America/Chicago:20180820T160000
DTEND;TZID=America/Chicago:20180820T180000
DTSTAMP:20260420T002721
CREATED:20180814T201118Z
LAST-MODIFIED:20180814T201118Z
UID:10000125-1534780800-1534788000@julierenee.com
SUMMARY:Advanced Essence
DESCRIPTION:
URL:https://julierenee.com/training/advanced-essence/
END:VEVENT
BEGIN:VEVENT
DTSTART;TZID=America/Chicago:20180816T110000
DTEND;TZID=America/Chicago:20180816T120000
DTSTAMP:20260420T002721
CREATED:20180814T225420Z
LAST-MODIFIED:20180814T225420Z
UID:10000226-1534417200-1534420800@julierenee.com
SUMMARY:Quantum Removal of Infections
DESCRIPTION:
URL:https://julierenee.com/training/quantum-removal-of-infections-2/
END:VEVENT
BEGIN:VEVENT
DTSTART;TZID=America/Chicago:20180815T110000
DTEND;TZID=America/Chicago:20180815T120000
DTSTAMP:20260420T002721
CREATED:20180814T230225Z
LAST-MODIFIED:20180814T230225Z
UID:10000236-1534330800-1534334400@julierenee.com
SUMMARY:Quantum Shift of Arthritis
DESCRIPTION:
URL:https://julierenee.com/training/quantum-shift-of-arthritis-3/
END:VEVENT
BEGIN:VEVENT
DTSTART;TZID=America/Chicago:20180814T110000
DTEND;TZID=America/Chicago:20180814T120000
DTSTAMP:20260420T002721
CREATED:20180814T235217Z
LAST-MODIFIED:20180814T235217Z
UID:10000289-1534244400-1534248000@julierenee.com
SUMMARY:Understanding Anchors
DESCRIPTION:
URL:https://julierenee.com/training/understanding-anchors-2/
END:VEVENT
BEGIN:VEVENT
DTSTART;TZID=America/Chicago:20180813T140000
DTEND;TZID=America/Chicago:20180813T150000
DTSTAMP:20260420T002721
CREATED:20180814T232142Z
LAST-MODIFIED:20180814T232142Z
UID:10000256-1534168800-1534172400@julierenee.com
SUMMARY:Simply Beautiful
DESCRIPTION:
URL:https://julierenee.com/training/simply-beautiful/
END:VEVENT
BEGIN:VEVENT
DTSTART;TZID=America/Chicago:20180813T100000
DTEND;TZID=America/Chicago:20180813T110000
DTSTAMP:20260420T002721
CREATED:20180814T213534Z
LAST-MODIFIED:20180814T213534Z
UID:10000176-1534154400-1534158000@julierenee.com
SUMMARY:Everything DNA - Special Apprentice Training
DESCRIPTION:
URL:https://julierenee.com/training/everything-dna-special-apprentice-training/
END:VEVENT
BEGIN:VEVENT
DTSTART;TZID=America/Chicago:20180809T110000
DTEND;TZID=America/Chicago:20180809T120000
DTSTAMP:20260420T002721
CREATED:20180814T225333Z
LAST-MODIFIED:20180814T225333Z
UID:10000225-1533812400-1533816000@julierenee.com
SUMMARY:Quantum Removal of Infections
DESCRIPTION:
URL:https://julierenee.com/training/quantum-removal-of-infections/
END:VEVENT
BEGIN:VEVENT
DTSTART;TZID=America/Chicago:20180808T110000
DTEND;TZID=America/Chicago:20180808T120000
DTSTAMP:20260420T002721
CREATED:20180814T230138Z
LAST-MODIFIED:20180814T230138Z
UID:10000235-1533726000-1533729600@julierenee.com
SUMMARY:Quantum Shift of Arthritis
DESCRIPTION:
URL:https://julierenee.com/training/quantum-shift-of-arthritis-2/
END:VEVENT
BEGIN:VEVENT
DTSTART;TZID=America/Chicago:20180807T160000
DTEND;TZID=America/Chicago:20180807T180000
DTSTAMP:20260420T002721
CREATED:20180814T233403Z
LAST-MODIFIED:20180814T233403Z
UID:10000272-1533657600-1533664800@julierenee.com
SUMMARY:Spiritual Detox: Community Training
DESCRIPTION:
URL:https://julierenee.com/training/spiritual-detox-community-training/
END:VEVENT
BEGIN:VEVENT
DTSTART;TZID=America/Chicago:20180807T110000
DTEND;TZID=America/Chicago:20180807T120000
DTSTAMP:20260420T002721
CREATED:20180814T235128Z
LAST-MODIFIED:20180814T235141Z
UID:10000288-1533639600-1533643200@julierenee.com
SUMMARY:Understanding Anchors
DESCRIPTION:
URL:https://julierenee.com/training/understanding-anchors/
END:VEVENT
BEGIN:VEVENT
DTSTART;TZID=America/Chicago:20180802T100000
DTEND;TZID=America/Chicago:20180802T110000
DTSTAMP:20260420T002721
CREATED:20180814T213203Z
LAST-MODIFIED:20180814T213203Z
UID:10000172-1533204000-1533207600@julierenee.com
SUMMARY:Everyday Magnetism
DESCRIPTION:
URL:https://julierenee.com/training/everyday-magnetism-4/
END:VEVENT
BEGIN:VEVENT
DTSTART;TZID=America/Chicago:20180801T110000
DTEND;TZID=America/Chicago:20180801T120000
DTSTAMP:20260420T002721
CREATED:20180814T230022Z
LAST-MODIFIED:20180814T230022Z
UID:10000234-1533121200-1533124800@julierenee.com
SUMMARY:Quantum Shift of Arthritis
DESCRIPTION:
URL:https://julierenee.com/training/quantum-shift-of-arthritis/
END:VEVENT
BEGIN:VEVENT
DTSTART;TZID=America/Chicago:20180731T100000
DTEND;TZID=America/Chicago:20180731T110000
DTSTAMP:20260420T002721
CREATED:20180814T223739Z
LAST-MODIFIED:20180814T223739Z
UID:10000216-1533031200-1533034800@julierenee.com
SUMMARY:Quantum Emotional Balance
DESCRIPTION:
URL:https://julierenee.com/training/quantum-emotional-balance-4/
END:VEVENT
BEGIN:VEVENT
DTSTART;TZID=America/Chicago:20180726T100000
DTEND;TZID=America/Chicago:20180726T110000
DTSTAMP:20260420T002721
CREATED:20180814T213125Z
LAST-MODIFIED:20180814T213125Z
UID:10000171-1532599200-1532602800@julierenee.com
SUMMARY:Everyday Magnetism
DESCRIPTION:
URL:https://julierenee.com/training/everyday-magnetism-3/
END:VEVENT
BEGIN:VEVENT
DTSTART;TZID=America/Chicago:20180725T110000
DTEND;TZID=America/Chicago:20180725T130000
DTSTAMP:20260420T002721
CREATED:20180814T233930Z
LAST-MODIFIED:20180814T233930Z
UID:10000278-1532516400-1532523600@julierenee.com
SUMMARY:Supple Spine
DESCRIPTION:
URL:https://julierenee.com/training/supple-spine-3/
END:VEVENT
BEGIN:VEVENT
DTSTART;TZID=America/Chicago:20180724T100000
DTEND;TZID=America/Chicago:20180724T110000
DTSTAMP:20260420T002721
CREATED:20180814T223703Z
LAST-MODIFIED:20180814T223703Z
UID:10000215-1532426400-1532430000@julierenee.com
SUMMARY:Quantum Emotional Balance
DESCRIPTION:
URL:https://julierenee.com/training/quantum-emotional-balance-3/
END:VEVENT
BEGIN:VEVENT
DTSTART;TZID=America/Chicago:20180720T100000
DTEND;TZID=America/Chicago:20180720T130000
DTSTAMP:20260420T002721
CREATED:20180815T000535Z
LAST-MODIFIED:20180815T000535Z
UID:10000295-1532080800-1532091600@julierenee.com
SUMMARY:Year of Miracles: Brain Rejuvenation
DESCRIPTION:
URL:https://julierenee.com/training/year-of-miracles-brain-rejuvenation/
END:VEVENT
BEGIN:VEVENT
DTSTART;TZID=America/Chicago:20180719T100000
DTEND;TZID=America/Chicago:20180719T110000
DTSTAMP:20260420T002721
CREATED:20180814T213040Z
LAST-MODIFIED:20180814T213040Z
UID:10000170-1531994400-1531998000@julierenee.com
SUMMARY:Everyday Magnetism
DESCRIPTION:
URL:https://julierenee.com/training/everyday-magnetism-2/
END:VEVENT
BEGIN:VEVENT
DTSTART;TZID=America/Chicago:20180718T110000
DTEND;TZID=America/Chicago:20180718T120000
DTSTAMP:20260420T002721
CREATED:20180814T233854Z
LAST-MODIFIED:20180814T233854Z
UID:10000277-1531911600-1531915200@julierenee.com
SUMMARY:Supple Spine
DESCRIPTION:
URL:https://julierenee.com/training/supple-spine-2/
END:VEVENT
BEGIN:VEVENT
DTSTART;TZID=America/Chicago:20180717T100000
DTEND;TZID=America/Chicago:20180717T110000
DTSTAMP:20260420T002721
CREATED:20180814T223624Z
LAST-MODIFIED:20180814T223624Z
UID:10000214-1531821600-1531825200@julierenee.com
SUMMARY:Quantum Emotional Balance
DESCRIPTION:
URL:https://julierenee.com/training/quantum-emotional-balance-2/
END:VEVENT
BEGIN:VEVENT
DTSTART;TZID=America/Chicago:20180716T140000
DTEND;TZID=America/Chicago:20180716T160000
DTSTAMP:20260420T002721
CREATED:20180814T203404Z
LAST-MODIFIED:20180814T203404Z
UID:10000136-1531749600-1531756800@julierenee.com
SUMMARY:Beautiful Skin
DESCRIPTION:
URL:https://julierenee.com/training/beautiful-skin/
END:VEVENT
BEGIN:VEVENT
DTSTART;TZID=America/Chicago:20180712T110000
DTEND;TZID=America/Chicago:20180712T120000
DTSTAMP:20260420T002721
CREATED:20180814T212855Z
LAST-MODIFIED:20180814T212855Z
UID:10000169-1531393200-1531396800@julierenee.com
SUMMARY:Everyday Magnetism
DESCRIPTION:
URL:https://julierenee.com/training/everyday-magnetism/
END:VEVENT
BEGIN:VEVENT
DTSTART;TZID=America/Chicago:20180711T110000
DTEND;TZID=America/Chicago:20180711T120000
DTSTAMP:20260420T002721
CREATED:20180814T233812Z
LAST-MODIFIED:20180814T233812Z
UID:10000276-1531306800-1531310400@julierenee.com
SUMMARY:Supple Spine
DESCRIPTION:
URL:https://julierenee.com/training/supple-spine/
END:VEVENT
BEGIN:VEVENT
DTSTART;TZID=America/Chicago:20180710T100000
DTEND;TZID=America/Chicago:20180710T110000
DTSTAMP:20260420T002721
CREATED:20180814T223256Z
LAST-MODIFIED:20180814T223256Z
UID:10000213-1531216800-1531220400@julierenee.com
SUMMARY:Quantum Emotional Balance
DESCRIPTION:
URL:https://julierenee.com/training/quantum-emotional-balance/
END:VEVENT
BEGIN:VEVENT
DTSTART;TZID=America/Chicago:20180709T160000
DTEND;TZID=America/Chicago:20180709T180000
DTSTAMP:20260420T002721
CREATED:20180814T221902Z
LAST-MODIFIED:20180814T221902Z
UID:10000201-1531152000-1531159200@julierenee.com
SUMMARY:Liberty! Emotion & Financial Freedom: Community Training
DESCRIPTION:
URL:https://julierenee.com/training/liberty-emotion-financial-freedom-community-training/
END:VEVENT
BEGIN:VEVENT
DTSTART;TZID=America/Chicago:20180705T110000
DTEND;TZID=America/Chicago:20180705T120000
DTSTAMP:20260420T002721
CREATED:20180814T205226Z
LAST-MODIFIED:20180814T205226Z
UID:10000149-1530788400-1530792000@julierenee.com
SUMMARY:Death is Not Better
DESCRIPTION:
URL:https://julierenee.com/training/death-is-not-better/
END:VEVENT
BEGIN:VEVENT
DTSTART;TZID=America/Chicago:20180629T110000
DTEND;TZID=America/Chicago:20180629T120000
DTSTAMP:20260420T002721
CREATED:20180814T202533Z
LAST-MODIFIED:20180814T202533Z
UID:10000134-1530270000-1530273600@julierenee.com
SUMMARY:Apprentice Graduation
DESCRIPTION:
URL:https://julierenee.com/training/apprentice-graduation/
END:VEVENT
END:VCALENDAR