BEGIN:VCALENDAR
VERSION:2.0
PRODID:-//Julie Renee - ECPv6.15.13//NONSGML v1.0//EN
CALSCALE:GREGORIAN
METHOD:PUBLISH
X-WR-CALNAME:Julie Renee
X-ORIGINAL-URL:https://julierenee.com
X-WR-CALDESC:Events for Julie Renee
REFRESH-INTERVAL;VALUE=DURATION:PT1H
X-Robots-Tag:noindex
X-PUBLISHED-TTL:PT1H
BEGIN:VTIMEZONE
TZID:America/Chicago
BEGIN:DAYLIGHT
TZOFFSETFROM:-0600
TZOFFSETTO:-0500
TZNAME:CDT
DTSTART:20170312T080000
END:DAYLIGHT
BEGIN:STANDARD
TZOFFSETFROM:-0500
TZOFFSETTO:-0600
TZNAME:CST
DTSTART:20171105T070000
END:STANDARD
BEGIN:DAYLIGHT
TZOFFSETFROM:-0600
TZOFFSETTO:-0500
TZNAME:CDT
DTSTART:20180311T080000
END:DAYLIGHT
BEGIN:STANDARD
TZOFFSETFROM:-0500
TZOFFSETTO:-0600
TZNAME:CST
DTSTART:20181104T070000
END:STANDARD
BEGIN:DAYLIGHT
TZOFFSETFROM:-0600
TZOFFSETTO:-0500
TZNAME:CDT
DTSTART:20190310T080000
END:DAYLIGHT
BEGIN:STANDARD
TZOFFSETFROM:-0500
TZOFFSETTO:-0600
TZNAME:CST
DTSTART:20191103T070000
END:STANDARD
END:VTIMEZONE
BEGIN:VEVENT
DTSTART;TZID=America/Chicago:20180619T110000
DTEND;TZID=America/Chicago:20180619T120000
DTSTAMP:20260420T052614
CREATED:20180814T234749Z
LAST-MODIFIED:20180814T234749Z
UID:10000284-1529406000-1529409600@julierenee.com
SUMMARY:Timelines
DESCRIPTION:
URL:https://julierenee.com/training/timelines-2/
END:VEVENT
BEGIN:VEVENT
DTSTART;TZID=America/Chicago:20180615T100000
DTEND;TZID=America/Chicago:20180615T130000
DTSTAMP:20260420T052614
CREATED:20180815T001854Z
LAST-MODIFIED:20180815T001854Z
UID:10000314-1529056800-1529067600@julierenee.com
SUMMARY:Year of Miracles: Vision
DESCRIPTION:
URL:https://julierenee.com/training/year-of-miracles-vision/
END:VEVENT
BEGIN:VEVENT
DTSTART;TZID=America/Chicago:20180614T100000
DTEND;TZID=America/Chicago:20180614T110000
DTSTAMP:20260420T052614
CREATED:20180814T195012Z
LAST-MODIFIED:20180814T195012Z
UID:10000112-1528970400-1528974000@julierenee.com
SUMMARY:100% Success
DESCRIPTION:
URL:https://julierenee.com/training/100-success-2/
END:VEVENT
BEGIN:VEVENT
DTSTART;TZID=America/Chicago:20180613T110000
DTEND;TZID=America/Chicago:20180613T130000
DTSTAMP:20260420T052614
CREATED:20180814T214443Z
LAST-MODIFIED:20180814T214443Z
UID:10000182-1528887600-1528894800@julierenee.com
SUMMARY:Freedom from Spiritual Interference
DESCRIPTION:
URL:https://julierenee.com/training/freedom-from-spiritual-interference-2/
END:VEVENT
BEGIN:VEVENT
DTSTART;TZID=America/Chicago:20180612T110000
DTEND;TZID=America/Chicago:20180612T120000
DTSTAMP:20260420T052614
CREATED:20180814T234712Z
LAST-MODIFIED:20180814T234712Z
UID:10000283-1528801200-1528804800@julierenee.com
SUMMARY:Timelines
DESCRIPTION:
URL:https://julierenee.com/training/timelines/
END:VEVENT
BEGIN:VEVENT
DTSTART;TZID=America/Chicago:20180611T110000
DTEND;TZID=America/Chicago:20180611T120000
DTSTAMP:20260420T052614
CREATED:20180814T224604Z
LAST-MODIFIED:20180814T224604Z
UID:10000220-1528714800-1528718400@julierenee.com
SUMMARY:Quantum Pump Techniques - Special Apprentice Training
DESCRIPTION:
URL:https://julierenee.com/training/quantum-pump-techniques-special-apprentice-training/
END:VEVENT
BEGIN:VEVENT
DTSTART;TZID=America/Chicago:20180607T100000
DTEND;TZID=America/Chicago:20180607T110000
DTSTAMP:20260420T052614
CREATED:20180814T194910Z
LAST-MODIFIED:20180814T194929Z
UID:10000111-1528365600-1528369200@julierenee.com
SUMMARY:100% Success
DESCRIPTION:
URL:https://julierenee.com/training/100-success/
END:VEVENT
BEGIN:VEVENT
DTSTART;TZID=America/Chicago:20180606T110000
DTEND;TZID=America/Chicago:20180606T130000
DTSTAMP:20260420T052614
CREATED:20180814T214404Z
LAST-MODIFIED:20180814T214404Z
UID:10000181-1528282800-1528290000@julierenee.com
SUMMARY:Freedom from Spiritual Interference
DESCRIPTION:
URL:https://julierenee.com/training/freedom-from-spiritual-interference/
END:VEVENT
BEGIN:VEVENT
DTSTART;TZID=America/Chicago:20180605T160000
DTEND;TZID=America/Chicago:20180605T180000
DTSTAMP:20260420T052614
CREATED:20180814T215523Z
LAST-MODIFIED:20180814T215523Z
UID:10000187-1528214400-1528221600@julierenee.com
SUMMARY:Happiness Starts with Balance: Community Training
DESCRIPTION:
URL:https://julierenee.com/training/happiness-starts-with-balance-community-training/
END:VEVENT
BEGIN:VEVENT
DTSTART;TZID=America/Chicago:20180531T110000
DTEND;TZID=America/Chicago:20180531T120000
DTSTAMP:20260420T052614
CREATED:20180814T215936Z
LAST-MODIFIED:20180814T215936Z
UID:10000189-1527764400-1527768000@julierenee.com
SUMMARY:How Clearing Statements Get Created
DESCRIPTION:
URL:https://julierenee.com/training/how-clearing-statements-get-created-2/
END:VEVENT
BEGIN:VEVENT
DTSTART;TZID=America/Chicago:20180524T110000
DTEND;TZID=America/Chicago:20180524T120000
DTSTAMP:20260420T052614
CREATED:20180814T215858Z
LAST-MODIFIED:20180814T215858Z
UID:10000188-1527159600-1527163200@julierenee.com
SUMMARY:How Clearing Statements Get Created
DESCRIPTION:
URL:https://julierenee.com/training/how-clearing-statements-get-created/
END:VEVENT
BEGIN:VEVENT
DTSTART;TZID=America/Chicago:20180523T100000
DTEND;TZID=America/Chicago:20180523T110000
DTSTAMP:20260420T052614
CREATED:20180814T212103Z
LAST-MODIFIED:20180814T212103Z
UID:10000165-1527069600-1527073200@julierenee.com
SUMMARY:Essence Live
DESCRIPTION:
URL:https://julierenee.com/training/essence-live-4/
END:VEVENT
BEGIN:VEVENT
DTSTART;TZID=America/Chicago:20180522T110000
DTEND;TZID=America/Chicago:20180522T120000
DTSTAMP:20260420T052614
CREATED:20180814T203748Z
LAST-MODIFIED:20180814T203748Z
UID:10000140-1526986800-1526990400@julierenee.com
SUMMARY:Best Me Ever
DESCRIPTION:
URL:https://julierenee.com/training/best-me-ever-3/
END:VEVENT
BEGIN:VEVENT
DTSTART;TZID=America/Chicago:20180518T100000
DTEND;TZID=America/Chicago:20180518T130000
DTSTAMP:20260420T052614
CREATED:20180815T001547Z
LAST-MODIFIED:20180815T001547Z
UID:10000310-1526637600-1526648400@julierenee.com
SUMMARY:Year of Miracles: Respiration & Bladder
DESCRIPTION:
URL:https://julierenee.com/training/year-of-miracles-respiration-bladder/
END:VEVENT
BEGIN:VEVENT
DTSTART;TZID=America/Chicago:20180517T110000
DTEND;TZID=America/Chicago:20180517T130000
DTSTAMP:20260420T052614
CREATED:20180814T201445Z
LAST-MODIFIED:20180814T201445Z
UID:10000127-1526554800-1526562000@julierenee.com
SUMMARY:Advanced Interference Training: Clearing Sleep Invaders
DESCRIPTION:
URL:https://julierenee.com/training/advanced-interference-training-clearing-sleep-invaders-2/
END:VEVENT
BEGIN:VEVENT
DTSTART;TZID=America/Chicago:20180516T100000
DTEND;TZID=America/Chicago:20180516T110000
DTSTAMP:20260420T052614
CREATED:20180814T212016Z
LAST-MODIFIED:20180814T212016Z
UID:10000164-1526464800-1526468400@julierenee.com
SUMMARY:Essence Live
DESCRIPTION:
URL:https://julierenee.com/training/essence-live-3/
END:VEVENT
BEGIN:VEVENT
DTSTART;TZID=America/Chicago:20180515T110000
DTEND;TZID=America/Chicago:20180515T120000
DTSTAMP:20260420T052614
CREATED:20180814T203712Z
LAST-MODIFIED:20180814T203712Z
UID:10000139-1526382000-1526385600@julierenee.com
SUMMARY:Best Me Ever
DESCRIPTION:
URL:https://julierenee.com/training/best-me-ever-2/
END:VEVENT
BEGIN:VEVENT
DTSTART;TZID=America/Chicago:20180510T110000
DTEND;TZID=America/Chicago:20180510T130000
DTSTAMP:20260420T052614
CREATED:20180814T201405Z
LAST-MODIFIED:20180814T201405Z
UID:10000126-1525950000-1525957200@julierenee.com
SUMMARY:Advanced Interference Training: Clearing Sleep Invaders
DESCRIPTION:
URL:https://julierenee.com/training/advanced-interference-training-clearing-sleep-invaders/
END:VEVENT
BEGIN:VEVENT
DTSTART;TZID=America/Chicago:20180509T100000
DTEND;TZID=America/Chicago:20180509T110000
DTSTAMP:20260420T052614
CREATED:20180814T211541Z
LAST-MODIFIED:20180814T211541Z
UID:10000163-1525860000-1525863600@julierenee.com
SUMMARY:Essence Live
DESCRIPTION:
URL:https://julierenee.com/training/essence-live-2/
END:VEVENT
BEGIN:VEVENT
DTSTART;TZID=America/Chicago:20180508T110000
DTEND;TZID=America/Chicago:20180508T120000
DTSTAMP:20260420T052614
CREATED:20180814T203632Z
LAST-MODIFIED:20180814T203632Z
UID:10000138-1525777200-1525780800@julierenee.com
SUMMARY:Best Me Ever
DESCRIPTION:
URL:https://julierenee.com/training/best-me-ever/
END:VEVENT
BEGIN:VEVENT
DTSTART;TZID=America/Chicago:20180502T100000
DTEND;TZID=America/Chicago:20180502T110000
DTSTAMP:20260420T052614
CREATED:20180814T211448Z
LAST-MODIFIED:20180814T211448Z
UID:10000162-1525255200-1525258800@julierenee.com
SUMMARY:Essence Live
DESCRIPTION:
URL:https://julierenee.com/training/essence-live/
END:VEVENT
BEGIN:VEVENT
DTSTART;TZID=America/Chicago:20180501T110000
DTEND;TZID=America/Chicago:20180501T130000
DTSTAMP:20260420T052614
CREATED:20180814T233212Z
LAST-MODIFIED:20180814T233212Z
UID:10000270-1525172400-1525179600@julierenee.com
SUMMARY:Something's Got a Hold On Me: Community Training
DESCRIPTION:
URL:https://julierenee.com/training/somethings-got-a-hold-on-me-community-training/
END:VEVENT
BEGIN:VEVENT
DTSTART;TZID=America/Chicago:20180420T103000
DTEND;TZID=America/Chicago:20180420T113000
DTSTAMP:20260420T052614
CREATED:20180814T213859Z
LAST-MODIFIED:20180814T213859Z
UID:10000179-1524220200-1524223800@julierenee.com
SUMMARY:FREE - Earth Day Global Activation
DESCRIPTION:
URL:https://julierenee.com/training/free-earth-day-global-activation/
END:VEVENT
BEGIN:VEVENT
DTSTART;TZID=America/Chicago:20180419T110000
DTEND;TZID=America/Chicago:20180419T130000
DTSTAMP:20260420T052614
CREATED:20180815T000136Z
LAST-MODIFIED:20180815T000136Z
UID:10000294-1524135600-1524142800@julierenee.com
SUMMARY:Understanding Your Blueprint
DESCRIPTION:
URL:https://julierenee.com/training/understanding-your-blueprint-3/
END:VEVENT
BEGIN:VEVENT
DTSTART;TZID=America/Chicago:20180418T140000
DTEND;TZID=America/Chicago:20180418T150000
DTSTAMP:20260420T052614
CREATED:20180814T222259Z
LAST-MODIFIED:20180814T222259Z
UID:10000205-1524060000-1524063600@julierenee.com
SUMMARY:Muscle Testing 101
DESCRIPTION:
URL:https://julierenee.com/training/muscle-testing-101/
END:VEVENT
BEGIN:VEVENT
DTSTART;TZID=America/Chicago:20180417T110000
DTEND;TZID=America/Chicago:20180417T130000
DTSTAMP:20260420T052614
CREATED:20180814T200307Z
LAST-MODIFIED:20180814T200307Z
UID:10000117-1523962800-1523970000@julierenee.com
SUMMARY:100% Vitality Apprentice
DESCRIPTION:
URL:https://julierenee.com/training/100-vitality-apprentice-3/
END:VEVENT
BEGIN:VEVENT
DTSTART;TZID=America/Chicago:20180416T100000
DTEND;TZID=America/Chicago:20180416T110000
DTSTAMP:20260420T052614
CREATED:20180814T234431Z
LAST-MODIFIED:20180814T234431Z
UID:10000282-1523872800-1523876400@julierenee.com
SUMMARY:The Art of Discovery - Special Apprentice Training
DESCRIPTION:
URL:https://julierenee.com/training/the-art-of-discovery-special-apprentice-training/
END:VEVENT
BEGIN:VEVENT
DTSTART;TZID=America/Chicago:20180413T100000
DTEND;TZID=America/Chicago:20180413T130000
DTSTAMP:20260420T052614
CREATED:20180815T001428Z
LAST-MODIFIED:20180815T001428Z
UID:10000308-1523613600-1523624400@julierenee.com
SUMMARY:Year of Miracles: Metabolism & Immune Systems
DESCRIPTION:
URL:https://julierenee.com/training/year-of-miracles-metabolism-immune-systems/
END:VEVENT
BEGIN:VEVENT
DTSTART;TZID=America/Chicago:20180412T110000
DTEND;TZID=America/Chicago:20180412T130000
DTSTAMP:20260420T052614
CREATED:20180815T000051Z
LAST-MODIFIED:20180815T000051Z
UID:10000293-1523530800-1523538000@julierenee.com
SUMMARY:Understanding Your Blueprint
DESCRIPTION:
URL:https://julierenee.com/training/understanding-your-blueprint-2/
END:VEVENT
BEGIN:VEVENT
DTSTART;TZID=America/Chicago:20180410T110000
DTEND;TZID=America/Chicago:20180410T120000
DTSTAMP:20260420T052614
CREATED:20180814T200231Z
LAST-MODIFIED:20180814T200231Z
UID:10000116-1523358000-1523361600@julierenee.com
SUMMARY:100% Vitality Apprentice
DESCRIPTION:
URL:https://julierenee.com/training/100-vitality-apprentice-2/
END:VEVENT
END:VCALENDAR