BEGIN:VCALENDAR
VERSION:2.0
PRODID:-//Julie Renee - ECPv6.15.13//NONSGML v1.0//EN
CALSCALE:GREGORIAN
METHOD:PUBLISH
X-WR-CALNAME:Julie Renee
X-ORIGINAL-URL:https://julierenee.com
X-WR-CALDESC:Events for Julie Renee
REFRESH-INTERVAL;VALUE=DURATION:PT1H
X-Robots-Tag:noindex
X-PUBLISHED-TTL:PT1H
BEGIN:VTIMEZONE
TZID:America/Chicago
BEGIN:DAYLIGHT
TZOFFSETFROM:-0600
TZOFFSETTO:-0500
TZNAME:CDT
DTSTART:20250309T080000
END:DAYLIGHT
BEGIN:STANDARD
TZOFFSETFROM:-0500
TZOFFSETTO:-0600
TZNAME:CST
DTSTART:20251102T070000
END:STANDARD
BEGIN:DAYLIGHT
TZOFFSETFROM:-0600
TZOFFSETTO:-0500
TZNAME:CDT
DTSTART:20260308T080000
END:DAYLIGHT
BEGIN:STANDARD
TZOFFSETFROM:-0500
TZOFFSETTO:-0600
TZNAME:CST
DTSTART:20261101T070000
END:STANDARD
BEGIN:DAYLIGHT
TZOFFSETFROM:-0600
TZOFFSETTO:-0500
TZNAME:CDT
DTSTART:20270314T080000
END:DAYLIGHT
BEGIN:STANDARD
TZOFFSETFROM:-0500
TZOFFSETTO:-0600
TZNAME:CST
DTSTART:20271107T070000
END:STANDARD
END:VTIMEZONE
BEGIN:VEVENT
DTSTART;TZID=America/Chicago:20260723T110000
DTEND;TZID=America/Chicago:20260723T120000
DTSTAMP:20260425T074414
CREATED:20260306T222417Z
LAST-MODIFIED:20260306T222417Z
UID:10002197-1784804400-1784808000@julierenee.com
SUMMARY:Discovery and Revelation Giants\, Fallen Angels\, and Minotaur and more
DESCRIPTION:
URL:https://julierenee.com/training/discovery-and-revelation-giants-fallen-angels-and-minotaur-and-more-4/
END:VEVENT
BEGIN:VEVENT
DTSTART;TZID=America/Chicago:20260728T110000
DTEND;TZID=America/Chicago:20260728T120000
DTSTAMP:20260425T074414
CREATED:20260306T222417Z
LAST-MODIFIED:20260306T222417Z
UID:10002198-1785236400-1785240000@julierenee.com
SUMMARY:Access the Tree of Wisdom: Wisdom\, Understanding\, Knowledge\, and Council
DESCRIPTION:
URL:https://julierenee.com/training/access-the-tree-of-wisdom-wisdom-understanding-knowledge-and-council-4/
END:VEVENT
BEGIN:VEVENT
DTSTART;TZID=America/Chicago:20260730T110000
DTEND;TZID=America/Chicago:20260730T120000
DTSTAMP:20260425T074414
CREATED:20260306T222420Z
LAST-MODIFIED:20260306T222420Z
UID:10002199-1785409200-1785412800@julierenee.com
SUMMARY:Discovery and Revelation Giants\, Fallen Angels\, and Minotaur and more
DESCRIPTION:
URL:https://julierenee.com/training/discovery-and-revelation-giants-fallen-angels-and-minotaur-and-more-5/
END:VEVENT
BEGIN:VEVENT
DTSTART;TZID=America/Chicago:20260730T150000
DTEND;TZID=America/Chicago:20260730T160000
DTSTAMP:20260425T074414
CREATED:20260415T004258Z
LAST-MODIFIED:20260415T004258Z
UID:10002257-1785423600-1785427200@julierenee.com
SUMMARY:Special Op Strike Force
DESCRIPTION:
URL:https://julierenee.com/training/special-op-strike-force-12/
END:VEVENT
BEGIN:VEVENT
DTSTART;TZID=America/Chicago:20260804T110000
DTEND;TZID=America/Chicago:20260804T120000
DTSTAMP:20260425T074414
CREATED:20260306T222407Z
LAST-MODIFIED:20260414T180629Z
UID:10002180-1785841200-1785844800@julierenee.com
SUMMARY:Gorgeous Goddess Regeneration
DESCRIPTION:
URL:https://julierenee.com/training/gorgeous-goddess-regeneration-4/
END:VEVENT
BEGIN:VEVENT
DTSTART;TZID=America/Chicago:20260805T110000
DTEND;TZID=America/Chicago:20260805T130000
DTSTAMP:20260425T074414
CREATED:20251204T024832Z
LAST-MODIFIED:20251204T024838Z
UID:10002088-1785927600-1785934800@julierenee.com
SUMMARY:Pure Potential – Body Trauma Detox
DESCRIPTION:
URL:https://julierenee.com/training/pure-potential-body-trauma-detox-3/
END:VEVENT
BEGIN:VEVENT
DTSTART;TZID=America/Chicago:20260806T110000
DTEND;TZID=America/Chicago:20260806T120000
DTSTAMP:20260425T074414
CREATED:20260306T222421Z
LAST-MODIFIED:20260306T222421Z
UID:10002201-1786014000-1786017600@julierenee.com
SUMMARY:Discovery and Revelation Giants\, Fallen Angels\, and Minotaur and more
DESCRIPTION:
URL:https://julierenee.com/training/discovery-and-revelation-giants-fallen-angels-and-minotaur-and-more-6/
END:VEVENT
BEGIN:VEVENT
DTSTART;TZID=America/Chicago:20260810T100000
DTEND;TZID=America/Chicago:20260810T120000
DTSTAMP:20260425T074414
CREATED:20251203T232950Z
LAST-MODIFIED:20251203T232950Z
UID:10002046-1786356000-1786363200@julierenee.com
SUMMARY:Reclaiming the Body
DESCRIPTION:
URL:https://julierenee.com/training/reclaiming-the-body-8/
END:VEVENT
BEGIN:VEVENT
DTSTART;TZID=America/Chicago:20260811T110000
DTEND;TZID=America/Chicago:20260811T120000
DTSTAMP:20260425T074414
CREATED:20260306T222404Z
LAST-MODIFIED:20260414T180644Z
UID:10002178-1786446000-1786449600@julierenee.com
SUMMARY:Gorgeous Goddess Regeneration
DESCRIPTION:
URL:https://julierenee.com/training/gorgeous-goddess-regeneration-3/
END:VEVENT
BEGIN:VEVENT
DTSTART;TZID=America/Chicago:20260813T110000
DTEND;TZID=America/Chicago:20260813T120000
DTSTAMP:20260425T074414
CREATED:20260306T222421Z
LAST-MODIFIED:20260306T222421Z
UID:10002203-1786618800-1786622400@julierenee.com
SUMMARY:Discovery and Revelation Giants\, Fallen Angels\, and Minotaur and more
DESCRIPTION:
URL:https://julierenee.com/training/discovery-and-revelation-giants-fallen-angels-and-minotaur-and-more-7/
END:VEVENT
BEGIN:VEVENT
DTSTART;TZID=America/Chicago:20260818T110000
DTEND;TZID=America/Chicago:20260818T120000
DTSTAMP:20260425T074414
CREATED:20260306T222404Z
LAST-MODIFIED:20260414T180656Z
UID:10002176-1787050800-1787054400@julierenee.com
SUMMARY:Gorgeous Goddess Regeneration
DESCRIPTION:
URL:https://julierenee.com/training/gorgeous-goddess-regeneration-2/
END:VEVENT
BEGIN:VEVENT
DTSTART;TZID=America/Chicago:20260819T110000
DTEND;TZID=America/Chicago:20260819T140000
DTSTAMP:20260425T074414
CREATED:20251204T024832Z
LAST-MODIFIED:20251204T024838Z
UID:10002085-1787137200-1787148000@julierenee.com
SUMMARY:Energize – Hearing
DESCRIPTION:
URL:https://julierenee.com/training/energize-hearing-5/
END:VEVENT
BEGIN:VEVENT
DTSTART;TZID=America/Chicago:20260820T110000
DTEND;TZID=America/Chicago:20260820T120000
DTSTAMP:20260425T074414
CREATED:20260306T222424Z
LAST-MODIFIED:20260306T222424Z
UID:10002205-1787223600-1787227200@julierenee.com
SUMMARY:Discovery and Revelation Giants\, Fallen Angels\, and Minotaur and more
DESCRIPTION:
URL:https://julierenee.com/training/discovery-and-revelation-giants-fallen-angels-and-minotaur-and-more-8/
END:VEVENT
BEGIN:VEVENT
DTSTART;TZID=America/Chicago:20260825T110000
DTEND;TZID=America/Chicago:20260825T120000
DTSTAMP:20260425T074414
CREATED:20260306T222404Z
LAST-MODIFIED:20260414T180710Z
UID:10002174-1787655600-1787659200@julierenee.com
SUMMARY:Gorgeous Goddess Regeneration
DESCRIPTION:
URL:https://julierenee.com/training/gorgeous-goddess-regeneration/
END:VEVENT
BEGIN:VEVENT
DTSTART;TZID=America/Chicago:20260827T110000
DTEND;TZID=America/Chicago:20260827T120000
DTSTAMP:20260425T074414
CREATED:20260306T222425Z
LAST-MODIFIED:20260306T222425Z
UID:10002207-1787828400-1787832000@julierenee.com
SUMMARY:Discovery and Revelation Giants\, Fallen Angels\, and Minotaur and more
DESCRIPTION:
URL:https://julierenee.com/training/discovery-and-revelation-giants-fallen-angels-and-minotaur-and-more-9/
END:VEVENT
BEGIN:VEVENT
DTSTART;TZID=America/Chicago:20260901T110000
DTEND;TZID=America/Chicago:20260901T120000
DTSTAMP:20260425T074414
CREATED:20260306T222425Z
LAST-MODIFIED:20260306T222425Z
UID:10002208-1788260400-1788264000@julierenee.com
SUMMARY:Reincarnation and Samsara
DESCRIPTION:
URL:https://julierenee.com/training/reincarnation-and-samsara/
END:VEVENT
BEGIN:VEVENT
DTSTART;TZID=America/Chicago:20260902T110000
DTEND;TZID=America/Chicago:20260902T130000
DTSTAMP:20260425T074414
CREATED:20251204T024834Z
LAST-MODIFIED:20251204T024834Z
UID:10002090-1788346800-1788354000@julierenee.com
SUMMARY:Pure Potential – Express Yourself: Full Self Expression
DESCRIPTION:
URL:https://julierenee.com/training/pure-potential-express-yourself-full-self-expression-2/
END:VEVENT
BEGIN:VEVENT
DTSTART;TZID=America/Chicago:20260903T110000
DTEND;TZID=America/Chicago:20260903T120000
DTSTAMP:20260425T074414
CREATED:20260306T222428Z
LAST-MODIFIED:20260306T222429Z
UID:10002209-1788433200-1788436800@julierenee.com
SUMMARY:Working Alongside Angels
DESCRIPTION:
URL:https://julierenee.com/training/working-alongside-angels/
END:VEVENT
BEGIN:VEVENT
DTSTART;TZID=America/Chicago:20260908T110000
DTEND;TZID=America/Chicago:20260908T120000
DTSTAMP:20260425T074414
CREATED:20260306T222428Z
LAST-MODIFIED:20260306T222429Z
UID:10002210-1788865200-1788868800@julierenee.com
SUMMARY:Reincarnation and Samsara
DESCRIPTION:
URL:https://julierenee.com/training/reincarnation-and-samsara-2/
END:VEVENT
BEGIN:VEVENT
DTSTART;TZID=America/Chicago:20260910T110000
DTEND;TZID=America/Chicago:20260910T120000
DTSTAMP:20260425T074414
CREATED:20260306T222428Z
LAST-MODIFIED:20260306T222429Z
UID:10002211-1789038000-1789041600@julierenee.com
SUMMARY:Working Alongside Angels
DESCRIPTION:
URL:https://julierenee.com/training/working-alongside-angels-2/
END:VEVENT
BEGIN:VEVENT
DTSTART;TZID=America/Chicago:20260915T110000
DTEND;TZID=America/Chicago:20260915T120000
DTSTAMP:20260425T074414
CREATED:20260306T222428Z
LAST-MODIFIED:20260306T222430Z
UID:10002212-1789470000-1789473600@julierenee.com
SUMMARY:Reincarnation and Samsara
DESCRIPTION:
URL:https://julierenee.com/training/reincarnation-and-samsara-3/
END:VEVENT
BEGIN:VEVENT
DTSTART;TZID=America/Chicago:20260916T110000
DTEND;TZID=America/Chicago:20260916T140000
DTSTAMP:20260425T074414
CREATED:20251204T024830Z
LAST-MODIFIED:20251204T024830Z
UID:10002080-1789556400-1789567200@julierenee.com
SUMMARY:Energize – Endocrine System Reboot
DESCRIPTION:
URL:https://julierenee.com/training/energize-endocrine-system-reboot-4/
END:VEVENT
BEGIN:VEVENT
DTSTART;TZID=America/Chicago:20260917T110000
DTEND;TZID=America/Chicago:20260917T120000
DTSTAMP:20260425T074414
CREATED:20260306T222428Z
LAST-MODIFIED:20260306T222430Z
UID:10002213-1789642800-1789646400@julierenee.com
SUMMARY:Working Alongside Angels
DESCRIPTION:
URL:https://julierenee.com/training/working-alongside-angels-3/
END:VEVENT
BEGIN:VEVENT
DTSTART;TZID=America/Chicago:20260922T110000
DTEND;TZID=America/Chicago:20260922T120000
DTSTAMP:20260425T074414
CREATED:20260306T222431Z
LAST-MODIFIED:20260306T222431Z
UID:10002214-1790074800-1790078400@julierenee.com
SUMMARY:Blood Muscle Knowing Tune-up
DESCRIPTION:
URL:https://julierenee.com/training/blood-muscle-knowing-tune-up/
END:VEVENT
BEGIN:VEVENT
DTSTART;TZID=America/Chicago:20260923T100000
DTEND;TZID=America/Chicago:20260923T140000
DTSTAMP:20260425T074414
CREATED:20251203T233021Z
LAST-MODIFIED:20251203T233021Z
UID:10002047-1790157600-1790172000@julierenee.com
SUMMARY:Reclaiming the Body
DESCRIPTION:
URL:https://julierenee.com/training/reclaiming-the-body-9/
END:VEVENT
BEGIN:VEVENT
DTSTART;TZID=America/Chicago:20260924T110000
DTEND;TZID=America/Chicago:20260924T120000
DTSTAMP:20260425T074414
CREATED:20260306T222432Z
LAST-MODIFIED:20260306T222432Z
UID:10002215-1790247600-1790251200@julierenee.com
SUMMARY:Working Alongside Angels
DESCRIPTION:
URL:https://julierenee.com/training/working-alongside-angels-4/
END:VEVENT
BEGIN:VEVENT
DTSTART;TZID=America/Chicago:20260929T110000
DTEND;TZID=America/Chicago:20260929T120000
DTSTAMP:20260425T074414
CREATED:20260306T222432Z
LAST-MODIFIED:20260306T222432Z
UID:10002216-1790679600-1790683200@julierenee.com
SUMMARY:Allergy Clearing
DESCRIPTION:
URL:https://julierenee.com/training/allergy-clearing/
END:VEVENT
BEGIN:VEVENT
DTSTART;TZID=America/Chicago:20261001T110000
DTEND;TZID=America/Chicago:20261001T120000
DTSTAMP:20260425T074414
CREATED:20260306T222432Z
LAST-MODIFIED:20260306T222432Z
UID:10002217-1790852400-1790856000@julierenee.com
SUMMARY:Working Alongside Angels
DESCRIPTION:
URL:https://julierenee.com/training/working-alongside-angels-5/
END:VEVENT
BEGIN:VEVENT
DTSTART;TZID=America/Chicago:20261006T110000
DTEND;TZID=America/Chicago:20261006T120000
DTSTAMP:20260425T074414
CREATED:20260306T222432Z
LAST-MODIFIED:20260306T222432Z
UID:10002218-1791284400-1791288000@julierenee.com
SUMMARY:Understand Define and Clear Immobilizers\, incapciators\, etc
DESCRIPTION:
URL:https://julierenee.com/training/understand-define-and-clear-immobilizers-incapciators-etc/
END:VEVENT
BEGIN:VEVENT
DTSTART;TZID=America/Chicago:20261007T110000
DTEND;TZID=America/Chicago:20261007T130000
DTSTAMP:20260425T074414
CREATED:20251204T025136Z
LAST-MODIFIED:20251204T025136Z
UID:10002095-1791370800-1791378000@julierenee.com
SUMMARY:Pure Potential - The Deception of Holidays
DESCRIPTION:
URL:https://julierenee.com/training/pure-potential-the-deception-of-holidays/
END:VEVENT
END:VCALENDAR