BEGIN:VCALENDAR
VERSION:2.0
PRODID:-//Julie Renee - ECPv6.15.13//NONSGML v1.0//EN
CALSCALE:GREGORIAN
METHOD:PUBLISH
X-WR-CALNAME:Julie Renee
X-ORIGINAL-URL:https://julierenee.com
X-WR-CALDESC:Events for Julie Renee
REFRESH-INTERVAL;VALUE=DURATION:PT1H
X-Robots-Tag:noindex
X-PUBLISHED-TTL:PT1H
BEGIN:VTIMEZONE
TZID:America/Chicago
BEGIN:DAYLIGHT
TZOFFSETFROM:-0600
TZOFFSETTO:-0500
TZNAME:CDT
DTSTART:20250309T080000
END:DAYLIGHT
BEGIN:STANDARD
TZOFFSETFROM:-0500
TZOFFSETTO:-0600
TZNAME:CST
DTSTART:20251102T070000
END:STANDARD
BEGIN:DAYLIGHT
TZOFFSETFROM:-0600
TZOFFSETTO:-0500
TZNAME:CDT
DTSTART:20260308T080000
END:DAYLIGHT
BEGIN:STANDARD
TZOFFSETFROM:-0500
TZOFFSETTO:-0600
TZNAME:CST
DTSTART:20261101T070000
END:STANDARD
BEGIN:DAYLIGHT
TZOFFSETFROM:-0600
TZOFFSETTO:-0500
TZNAME:CDT
DTSTART:20270314T080000
END:DAYLIGHT
BEGIN:STANDARD
TZOFFSETFROM:-0500
TZOFFSETTO:-0600
TZNAME:CST
DTSTART:20271107T070000
END:STANDARD
BEGIN:DAYLIGHT
TZOFFSETFROM:-0600
TZOFFSETTO:-0500
TZNAME:CDT
DTSTART:20280312T080000
END:DAYLIGHT
BEGIN:STANDARD
TZOFFSETFROM:-0500
TZOFFSETTO:-0600
TZNAME:CST
DTSTART:20281105T070000
END:STANDARD
END:VTIMEZONE
BEGIN:VEVENT
DTSTART;TZID=America/Chicago:20261027T110000
DTEND;TZID=America/Chicago:20261027T120000
DTSTAMP:20260425T121520
CREATED:20260306T222439Z
LAST-MODIFIED:20260306T222439Z
UID:10002224-1793098800-1793102400@julierenee.com
SUMMARY:Understand Define and Clear Immobilizers\, incapciators\, etc
DESCRIPTION:
URL:https://julierenee.com/training/understand-define-and-clear-immobilizers-incapciators-etc-4/
END:VEVENT
BEGIN:VEVENT
DTSTART;TZID=America/Chicago:20261029T110000
DTEND;TZID=America/Chicago:20261029T120000
DTSTAMP:20260425T121520
CREATED:20260306T222439Z
LAST-MODIFIED:20260306T222439Z
UID:10002225-1793271600-1793275200@julierenee.com
SUMMARY:Aligning with God
DESCRIPTION:
URL:https://julierenee.com/training/aligning-with-god/
END:VEVENT
BEGIN:VEVENT
DTSTART;TZID=America/Chicago:20261110T110000
DTEND;TZID=America/Chicago:20261110T120000
DTSTAMP:20260425T121520
CREATED:20260306T222439Z
LAST-MODIFIED:20260306T222439Z
UID:10002226-1794308400-1794312000@julierenee.com
SUMMARY:Government Deception
DESCRIPTION:
URL:https://julierenee.com/training/government-deception/
END:VEVENT
BEGIN:VEVENT
DTSTART;TZID=America/Chicago:20261111T110000
DTEND;TZID=America/Chicago:20261111T130000
DTSTAMP:20260425T121520
CREATED:20251204T024833Z
LAST-MODIFIED:20251204T024833Z
UID:10002089-1794394800-1794402000@julierenee.com
SUMMARY:Pure Potential – Celebrating Sexuality Pure & Beautiful
DESCRIPTION:
URL:https://julierenee.com/training/pure-potential-celebrating-sexuality-pure-beautiful/
END:VEVENT
BEGIN:VEVENT
DTSTART;TZID=America/Chicago:20261112T100000
DTEND;TZID=America/Chicago:20261112T120000
DTSTAMP:20260425T121520
CREATED:20260306T222439Z
LAST-MODIFIED:20260306T222439Z
UID:10002227-1794477600-1794484800@julierenee.com
SUMMARY:Striving for Extraordinary Angels Qualities
DESCRIPTION:
URL:https://julierenee.com/training/striving-for-extraordinary-angels-qualities/
END:VEVENT
BEGIN:VEVENT
DTSTART;TZID=America/Chicago:20261117T110000
DTEND;TZID=America/Chicago:20261117T120000
DTSTAMP:20260425T121520
CREATED:20260306T222439Z
LAST-MODIFIED:20260306T222439Z
UID:10002228-1794913200-1794916800@julierenee.com
SUMMARY:Government Deception
DESCRIPTION:
URL:https://julierenee.com/training/government-deception-2/
END:VEVENT
BEGIN:VEVENT
DTSTART;TZID=America/Chicago:20261118T110000
DTEND;TZID=America/Chicago:20261118T140000
DTSTAMP:20260425T121520
CREATED:20251204T024830Z
LAST-MODIFIED:20251204T024830Z
UID:10002083-1794999600-1795010400@julierenee.com
SUMMARY:Energize – Healthy Bones & Muscles
DESCRIPTION:
URL:https://julierenee.com/training/energize-healthy-bones-muscles-4/
END:VEVENT
BEGIN:VEVENT
DTSTART;TZID=America/Chicago:20261119T100000
DTEND;TZID=America/Chicago:20261119T120000
DTSTAMP:20260425T121520
CREATED:20260306T222444Z
LAST-MODIFIED:20260306T222444Z
UID:10002229-1795082400-1795089600@julierenee.com
SUMMARY:Striving for Extraordinary Angels Qualities
DESCRIPTION:
URL:https://julierenee.com/training/striving-for-extraordinary-angels-qualities-2/
END:VEVENT
BEGIN:VEVENT
DTSTART;TZID=America/Chicago:20261124T110000
DTEND;TZID=America/Chicago:20261124T120000
DTSTAMP:20260425T121520
CREATED:20260306T222444Z
LAST-MODIFIED:20260306T222444Z
UID:10002230-1795518000-1795521600@julierenee.com
SUMMARY:Government Deception
DESCRIPTION:
URL:https://julierenee.com/training/government-deception-3/
END:VEVENT
BEGIN:VEVENT
DTSTART;TZID=America/Chicago:20261125T100000
DTEND;TZID=America/Chicago:20261125T160000
DTSTAMP:20260425T121520
CREATED:20251203T233053Z
LAST-MODIFIED:20251203T233053Z
UID:10002048-1795600800-1795622400@julierenee.com
SUMMARY:Reclaiming the Body
DESCRIPTION:
URL:https://julierenee.com/training/reclaiming-the-body-10/
END:VEVENT
BEGIN:VEVENT
DTSTART;TZID=America/Chicago:20261201T110000
DTEND;TZID=America/Chicago:20261201T120000
DTSTAMP:20260425T121520
CREATED:20260306T222444Z
LAST-MODIFIED:20260306T222444Z
UID:10002231-1796122800-1796126400@julierenee.com
SUMMARY:Government Deception
DESCRIPTION:
URL:https://julierenee.com/training/government-deception-4/
END:VEVENT
BEGIN:VEVENT
DTSTART;TZID=America/Chicago:20261202T110000
DTEND;TZID=America/Chicago:20261202T120000
DTSTAMP:20260425T121520
CREATED:20251204T025328Z
LAST-MODIFIED:20251204T025328Z
UID:10002096-1796209200-1796212800@julierenee.com
SUMMARY:Pure Potential - The Complete Money Manifesto
DESCRIPTION:
URL:https://julierenee.com/training/pure-potential-the-complete-money-manifesto-4/
END:VEVENT
BEGIN:VEVENT
DTSTART;TZID=America/Chicago:20261203T110000
DTEND;TZID=America/Chicago:20261203T120000
DTSTAMP:20260425T121520
CREATED:20260306T222444Z
LAST-MODIFIED:20260306T222444Z
UID:10002232-1796295600-1796299200@julierenee.com
SUMMARY:Striving for Extraordinary Angels Qualities
DESCRIPTION:
URL:https://julierenee.com/training/striving-for-extraordinary-angels-qualities-3/
END:VEVENT
BEGIN:VEVENT
DTSTART;TZID=America/Chicago:20261208T110000
DTEND;TZID=America/Chicago:20261208T120000
DTSTAMP:20260425T121520
CREATED:20260306T222445Z
LAST-MODIFIED:20260306T222445Z
UID:10002233-1796727600-1796731200@julierenee.com
SUMMARY:Government Deception
DESCRIPTION:
URL:https://julierenee.com/training/government-deception-5/
END:VEVENT
BEGIN:VEVENT
DTSTART;TZID=America/Chicago:20261210T110000
DTEND;TZID=America/Chicago:20261210T120000
DTSTAMP:20260425T121520
CREATED:20260414T183735Z
LAST-MODIFIED:20260414T183735Z
UID:10002241-1796900400-1796904000@julierenee.com
SUMMARY:Striving for Extraordinary Angels Qualities
DESCRIPTION:
URL:https://julierenee.com/training/striving-for-extraordinary-angels-qualities-4/
END:VEVENT
BEGIN:VEVENT
DTSTART;TZID=America/Chicago:20261215T110000
DTEND;TZID=America/Chicago:20261215T120000
DTSTAMP:20260425T121520
CREATED:20260414T183949Z
LAST-MODIFIED:20260414T183949Z
UID:10002243-1797332400-1797336000@julierenee.com
SUMMARY:Government Deception
DESCRIPTION:
URL:https://julierenee.com/training/government-deception-6/
END:VEVENT
BEGIN:VEVENT
DTSTART;TZID=America/Chicago:20261216T110000
DTEND;TZID=America/Chicago:20261216T140000
DTSTAMP:20260425T121520
CREATED:20251204T024832Z
LAST-MODIFIED:20251204T024838Z
UID:10002086-1797418800-1797429600@julierenee.com
SUMMARY:Energize – Silky Sexy Hair\, Skin\, and Nails
DESCRIPTION:
URL:https://julierenee.com/training/energize-silky-sexy-hair-skin-and-nails/
END:VEVENT
BEGIN:VEVENT
DTSTART;TZID=America/Chicago:20261217T110000
DTEND;TZID=America/Chicago:20261217T120000
DTSTAMP:20260425T121520
CREATED:20260414T183824Z
LAST-MODIFIED:20260414T183824Z
UID:10002242-1797505200-1797508800@julierenee.com
SUMMARY:Striving for Extraordinary Angels Qualities
DESCRIPTION:
URL:https://julierenee.com/training/striving-for-extraordinary-angels-qualities-5/
END:VEVENT
BEGIN:VEVENT
DTSTART;TZID=America/Chicago:20261222T110000
DTEND;TZID=America/Chicago:20261222T120000
DTSTAMP:20260425T121520
CREATED:20260414T184012Z
LAST-MODIFIED:20260414T184012Z
UID:10002244-1797937200-1797940800@julierenee.com
SUMMARY:Government Deception
DESCRIPTION:
URL:https://julierenee.com/training/government-deception-7/
END:VEVENT
BEGIN:VEVENT
DTSTART;TZID=America/Chicago:20261229T110000
DTEND;TZID=America/Chicago:20261229T120000
DTSTAMP:20260425T121520
CREATED:20260414T184035Z
LAST-MODIFIED:20260414T184035Z
UID:10002245-1798542000-1798545600@julierenee.com
SUMMARY:Government Deception
DESCRIPTION:
URL:https://julierenee.com/training/government-deception-8/
END:VEVENT
BEGIN:VEVENT
DTSTART;TZID=America/Chicago:20270106T110000
DTEND;TZID=America/Chicago:20270106T130000
DTSTAMP:20260425T121520
CREATED:20251204T031203Z
LAST-MODIFIED:20251204T031203Z
UID:10002097-1799233200-1799240400@julierenee.com
SUMMARY:Pure Potential - Your Best Year Yet: Mastering Mock-ups
DESCRIPTION:
URL:https://julierenee.com/training/pure-potential-your-best-year-yet-mastering-mock-ups-3/
END:VEVENT
BEGIN:VEVENT
DTSTART;TZID=America/Chicago:20270120T110000
DTEND;TZID=America/Chicago:20270120T140000
DTSTAMP:20260425T121520
CREATED:20251204T032145Z
LAST-MODIFIED:20251204T032145Z
UID:10002109-1800442800-1800453600@julierenee.com
SUMMARY:Energize - Respiration System
DESCRIPTION:
URL:https://julierenee.com/training/energize-respiration-system-4/
END:VEVENT
BEGIN:VEVENT
DTSTART;TZID=America/Chicago:20270203T110000
DTEND;TZID=America/Chicago:20270203T130000
DTSTAMP:20260425T121520
CREATED:20251204T031204Z
LAST-MODIFIED:20251204T031204Z
UID:10002098-1801652400-1801659600@julierenee.com
SUMMARY:Pure Potential - Belonging: Restoring Love from the Start
DESCRIPTION:
URL:https://julierenee.com/training/pure-potential-belonging-restoring-love-from-the-start-2/
END:VEVENT
BEGIN:VEVENT
DTSTART;TZID=America/Chicago:20270217T110000
DTEND;TZID=America/Chicago:20270217T140000
DTSTAMP:20260425T121520
CREATED:20251204T032145Z
LAST-MODIFIED:20251204T032146Z
UID:10002110-1802862000-1802872800@julierenee.com
SUMMARY:Energize - Cardio\, Circulation & Lymph
DESCRIPTION:
URL:https://julierenee.com/training/energize-cardio-circulation-lymph-5/
END:VEVENT
BEGIN:VEVENT
DTSTART;TZID=America/Chicago:20270303T110000
DTEND;TZID=America/Chicago:20270303T130000
DTSTAMP:20260425T121520
CREATED:20251204T031204Z
LAST-MODIFIED:20251204T031204Z
UID:10002099-1804071600-1804078800@julierenee.com
SUMMARY:Pure Potential - Peace That Passes All Understanding: Realizing Serenity Grace & Ease
DESCRIPTION:
URL:https://julierenee.com/training/pure-potential-peace-that-passes-all-understanding-realizing-serenity-grace-ease-2/
END:VEVENT
BEGIN:VEVENT
DTSTART;TZID=America/Chicago:20270317T110000
DTEND;TZID=America/Chicago:20270317T140000
DTSTAMP:20260425T121520
CREATED:20251204T032145Z
LAST-MODIFIED:20251204T032147Z
UID:10002111-1805281200-1805292000@julierenee.com
SUMMARY:Energize - The Organ Tune-Up
DESCRIPTION:
URL:https://julierenee.com/training/energize-the-organ-tune-up-4/
END:VEVENT
BEGIN:VEVENT
DTSTART;TZID=America/Chicago:20270407T110000
DTEND;TZID=America/Chicago:20270407T130000
DTSTAMP:20260425T121520
CREATED:20251204T031204Z
LAST-MODIFIED:20251204T031204Z
UID:10002100-1807095600-1807102800@julierenee.com
SUMMARY:Pure Potential - Blueprint Empowerment
DESCRIPTION:
URL:https://julierenee.com/training/pure-potential-blueprint-empowerment-4/
END:VEVENT
BEGIN:VEVENT
DTSTART;TZID=America/Chicago:20270421T110000
DTEND;TZID=America/Chicago:20270421T140000
DTSTAMP:20260425T121520
CREATED:20251204T032145Z
LAST-MODIFIED:20251204T032147Z
UID:10002112-1808305200-1808316000@julierenee.com
SUMMARY:Energize - Healthy Nervous & Immune Systems
DESCRIPTION:
URL:https://julierenee.com/training/energize-healthy-nervous-immune-systems-6/
END:VEVENT
BEGIN:VEVENT
DTSTART;TZID=America/Chicago:20270505T110000
DTEND;TZID=America/Chicago:20270505T130000
DTSTAMP:20260425T121520
CREATED:20251204T031204Z
LAST-MODIFIED:20251204T031204Z
UID:10002101-1809514800-1809522000@julierenee.com
SUMMARY:Pure Potential - Navigating World News: Maintaining Your Authority
DESCRIPTION:
URL:https://julierenee.com/training/pure-potential-navigating-world-news-maintaining-your-authority-2/
END:VEVENT
BEGIN:VEVENT
DTSTART;TZID=America/Chicago:20270519T110000
DTEND;TZID=America/Chicago:20270519T140000
DTSTAMP:20260425T121520
CREATED:20251204T032145Z
LAST-MODIFIED:20251204T032147Z
UID:10002113-1810724400-1810735200@julierenee.com
SUMMARY:Energize - Good Digestion & Metabolism
DESCRIPTION:
URL:https://julierenee.com/training/energize-good-digestion-metabolism-5/
END:VEVENT
END:VCALENDAR