BEGIN:VCALENDAR
VERSION:2.0
PRODID:-//Julie Renee - ECPv6.15.13//NONSGML v1.0//EN
CALSCALE:GREGORIAN
METHOD:PUBLISH
X-ORIGINAL-URL:https://julierenee.com
X-WR-CALDESC:Events for Julie Renee
REFRESH-INTERVAL;VALUE=DURATION:PT1H
X-Robots-Tag:noindex
X-PUBLISHED-TTL:PT1H
BEGIN:VTIMEZONE
TZID:America/Chicago
BEGIN:DAYLIGHT
TZOFFSETFROM:-0600
TZOFFSETTO:-0500
TZNAME:CDT
DTSTART:20240310T080000
END:DAYLIGHT
BEGIN:STANDARD
TZOFFSETFROM:-0500
TZOFFSETTO:-0600
TZNAME:CST
DTSTART:20241103T070000
END:STANDARD
BEGIN:DAYLIGHT
TZOFFSETFROM:-0600
TZOFFSETTO:-0500
TZNAME:CDT
DTSTART:20250309T080000
END:DAYLIGHT
BEGIN:STANDARD
TZOFFSETFROM:-0500
TZOFFSETTO:-0600
TZNAME:CST
DTSTART:20251102T070000
END:STANDARD
BEGIN:DAYLIGHT
TZOFFSETFROM:-0600
TZOFFSETTO:-0500
TZNAME:CDT
DTSTART:20260308T080000
END:DAYLIGHT
BEGIN:STANDARD
TZOFFSETFROM:-0500
TZOFFSETTO:-0600
TZNAME:CST
DTSTART:20261101T070000
END:STANDARD
END:VTIMEZONE
BEGIN:VEVENT
DTSTART;TZID=America/Chicago:20251201T130000
DTEND;TZID=America/Chicago:20251201T150000
DTSTAMP:20260425T063556
CREATED:20250812T220012Z
LAST-MODIFIED:20250812T220130Z
UID:10001990-1764594000-1764601200@julierenee.com
SUMMARY:Forever Wealth.. Realized
DESCRIPTION:
URL:https://julierenee.com/training/forever-wealth-realized-6/
END:VEVENT
BEGIN:VEVENT
DTSTART;TZID=America/Chicago:20251202T110000
DTEND;TZID=America/Chicago:20251202T120000
DTSTAMP:20260425T063556
CREATED:20250718T175133Z
LAST-MODIFIED:20250718T175219Z
UID:10001952-1764673200-1764676800@julierenee.com
SUMMARY:Angels Class
DESCRIPTION:
URL:https://julierenee.com/training/angels-class/2025-12-02/
END:VEVENT
BEGIN:VEVENT
DTSTART;TZID=America/Chicago:20251203T110000
DTEND;TZID=America/Chicago:20251203T150000
DTSTAMP:20260425T063556
CREATED:20241129T224640Z
LAST-MODIFIED:20241129T224640Z
UID:10001439-1764759600-1764774000@julierenee.com
SUMMARY:Pure Potential - Setting Your Holiday Loving Communication & Fun
DESCRIPTION:
URL:https://julierenee.com/training/pure-potential-setting-your-holiday-loving-communication-fun-2/
END:VEVENT
BEGIN:VEVENT
DTSTART;TZID=America/Chicago:20251204T110000
DTEND;TZID=America/Chicago:20251204T120000
DTSTAMP:20260425T063556
CREATED:20250718T175321Z
LAST-MODIFIED:20250718T175321Z
UID:10001957-1764846000-1764849600@julierenee.com
SUMMARY:Stem Cell Enhancement of Vibrancy\, Health\, and Beauty
DESCRIPTION:
URL:https://julierenee.com/training/stem-cell-enhancement-of-vibrancy-health-and-beauty-4/2025-12-04/
END:VEVENT
BEGIN:VEVENT
DTSTART;TZID=America/Chicago:20251204T153000
DTEND;TZID=America/Chicago:20251204T160000
DTSTAMP:20260425T063556
CREATED:20250718T180107Z
LAST-MODIFIED:20250903T234142Z
UID:10001975-1764862200-1764864000@julierenee.com
SUMMARY:Why Wait? Incinerate!
DESCRIPTION:
URL:https://julierenee.com/training/why-wait-incinerate-25/2025-12-04/
END:VEVENT
BEGIN:VEVENT
DTSTART;TZID=America/Chicago:20251208T130000
DTEND;TZID=America/Chicago:20251208T150000
DTSTAMP:20260425T063556
CREATED:20250812T220031Z
LAST-MODIFIED:20250812T220303Z
UID:10001991-1765198800-1765206000@julierenee.com
SUMMARY:Forever Wealth.. Realized
DESCRIPTION:
URL:https://julierenee.com/training/forever-wealth-realized-7/
END:VEVENT
BEGIN:VEVENT
DTSTART;TZID=America/Chicago:20251209T110000
DTEND;TZID=America/Chicago:20251209T120000
DTSTAMP:20260425T063556
CREATED:20250718T175133Z
LAST-MODIFIED:20250718T175219Z
UID:10001953-1765278000-1765281600@julierenee.com
SUMMARY:Angels Class
DESCRIPTION:
URL:https://julierenee.com/training/angels-class/2025-12-09/
END:VEVENT
BEGIN:VEVENT
DTSTART;TZID=America/Chicago:20251211T110000
DTEND;TZID=America/Chicago:20251211T120000
DTSTAMP:20260425T063556
CREATED:20250718T175321Z
LAST-MODIFIED:20250718T175321Z
UID:10001958-1765450800-1765454400@julierenee.com
SUMMARY:Stem Cell Enhancement of Vibrancy\, Health\, and Beauty
DESCRIPTION:
URL:https://julierenee.com/training/stem-cell-enhancement-of-vibrancy-health-and-beauty-4/2025-12-11/
END:VEVENT
BEGIN:VEVENT
DTSTART;TZID=America/Chicago:20251211T153000
DTEND;TZID=America/Chicago:20251211T160000
DTSTAMP:20260425T063556
CREATED:20250718T180107Z
LAST-MODIFIED:20250903T234142Z
UID:10001976-1765467000-1765468800@julierenee.com
SUMMARY:Why Wait? Incinerate!
DESCRIPTION:
URL:https://julierenee.com/training/why-wait-incinerate-25/2025-12-11/
END:VEVENT
BEGIN:VEVENT
DTSTART;TZID=America/Chicago:20251215T090000
DTEND;TZID=America/Chicago:20251215T120000
DTSTAMP:20260425T063556
CREATED:20251128T230656Z
LAST-MODIFIED:20251128T230656Z
UID:10002038-1765789200-1765800000@julierenee.com
SUMMARY:Post-Pandemic Breakdown of Skin and Tissue
DESCRIPTION:
URL:https://julierenee.com/training/post-pandemic-breakdown-of-skin-and-tissue/
END:VEVENT
BEGIN:VEVENT
DTSTART;TZID=America/Chicago:20251215T130000
DTEND;TZID=America/Chicago:20251215T150000
DTSTAMP:20260425T063556
CREATED:20250812T220059Z
LAST-MODIFIED:20250812T220059Z
UID:10001992-1765803600-1765810800@julierenee.com
SUMMARY:Forever Wealth.. Realized
DESCRIPTION:
URL:https://julierenee.com/training/forever-wealth-realized-8/
END:VEVENT
BEGIN:VEVENT
DTSTART;TZID=America/Chicago:20251216T110000
DTEND;TZID=America/Chicago:20251216T120000
DTSTAMP:20260425T063556
CREATED:20250718T175133Z
LAST-MODIFIED:20250718T175219Z
UID:10001954-1765882800-1765886400@julierenee.com
SUMMARY:Angels Class
DESCRIPTION:
URL:https://julierenee.com/training/angels-class/2025-12-16/
END:VEVENT
BEGIN:VEVENT
DTSTART;TZID=America/Chicago:20251217T100000
DTEND;TZID=America/Chicago:20251217T130000
DTSTAMP:20260425T063556
CREATED:20241206T144041Z
LAST-MODIFIED:20251202T190109Z
UID:10001452-1765965600-1765976400@julierenee.com
SUMMARY:Energize - Silky Sexy Hair\, Skin\, & Nails
DESCRIPTION:
URL:https://julierenee.com/training/energize-silky-sexy-hair-skin-nails-2/
END:VEVENT
BEGIN:VEVENT
DTSTART;TZID=America/Chicago:20251218T110000
DTEND;TZID=America/Chicago:20251218T120000
DTSTAMP:20260425T063556
CREATED:20250718T175321Z
LAST-MODIFIED:20250718T175321Z
UID:10001959-1766055600-1766059200@julierenee.com
SUMMARY:Stem Cell Enhancement of Vibrancy\, Health\, and Beauty
DESCRIPTION:
URL:https://julierenee.com/training/stem-cell-enhancement-of-vibrancy-health-and-beauty-4/2025-12-18/
END:VEVENT
BEGIN:VEVENT
DTSTART;TZID=America/Chicago:20251218T153000
DTEND;TZID=America/Chicago:20251218T160000
DTSTAMP:20260425T063556
CREATED:20250718T180107Z
LAST-MODIFIED:20250903T234142Z
UID:10001977-1766071800-1766073600@julierenee.com
SUMMARY:Why Wait? Incinerate!
DESCRIPTION:
URL:https://julierenee.com/training/why-wait-incinerate-25/2025-12-18/
END:VEVENT
BEGIN:VEVENT
DTSTART;TZID=America/Chicago:20251222T130000
DTEND;TZID=America/Chicago:20251222T150000
DTSTAMP:20260425T063556
CREATED:20250812T220120Z
LAST-MODIFIED:20250812T220120Z
UID:10001993-1766408400-1766415600@julierenee.com
SUMMARY:Forever Wealth.. Realized
DESCRIPTION:
URL:https://julierenee.com/training/forever-wealth-realized-9/
END:VEVENT
BEGIN:VEVENT
DTSTART;TZID=America/Chicago:20251223T110000
DTEND;TZID=America/Chicago:20251223T120000
DTSTAMP:20260425T063556
CREATED:20250718T175133Z
LAST-MODIFIED:20250718T175219Z
UID:10001955-1766487600-1766491200@julierenee.com
SUMMARY:Angels Class
DESCRIPTION:
URL:https://julierenee.com/training/angels-class/2025-12-23/
END:VEVENT
BEGIN:VEVENT
DTSTART;TZID=America/Chicago:20251229T090000
DTEND;TZID=America/Chicago:20251229T120000
DTSTAMP:20260425T063556
CREATED:20251203T232547Z
LAST-MODIFIED:20251203T232547Z
UID:10002039-1766998800-1767009600@julierenee.com
SUMMARY:Reclaiming the Body
DESCRIPTION:
URL:https://julierenee.com/training/reclaiming-the-body/
END:VEVENT
BEGIN:VEVENT
DTSTART;TZID=America/Chicago:20251229T130000
DTEND;TZID=America/Chicago:20251229T150000
DTSTAMP:20260425T063556
CREATED:20250812T220208Z
LAST-MODIFIED:20250812T220208Z
UID:10001994-1767013200-1767020400@julierenee.com
SUMMARY:Forever Wealth.. Realized
DESCRIPTION:
URL:https://julierenee.com/training/forever-wealth-realized-10/
END:VEVENT
BEGIN:VEVENT
DTSTART;TZID=America/Chicago:20251229T153000
DTEND;TZID=America/Chicago:20251229T160000
DTSTAMP:20260425T063556
CREATED:20251218T221141Z
LAST-MODIFIED:20251218T221141Z
UID:10002134-1767022200-1767024000@julierenee.com
SUMMARY:Why Wait? Incinerate!
DESCRIPTION:
URL:https://julierenee.com/training/why-wait-incinerate-36/
END:VEVENT
BEGIN:VEVENT
DTSTART;TZID=America/Chicago:20251230T110000
DTEND;TZID=America/Chicago:20251230T120000
DTSTAMP:20260425T063556
CREATED:20250718T175133Z
LAST-MODIFIED:20250718T175219Z
UID:10001956-1767092400-1767096000@julierenee.com
SUMMARY:Angels Class
DESCRIPTION:
URL:https://julierenee.com/training/angels-class/2025-12-30/
END:VEVENT
BEGIN:VEVENT
DTSTART;TZID=America/Chicago:20251230T130000
DTEND;TZID=America/Chicago:20251230T150000
DTSTAMP:20260425T063556
CREATED:20250718T175355Z
LAST-MODIFIED:20250718T175355Z
UID:10001960-1767099600-1767106800@julierenee.com
SUMMARY:Stem Cell Enhancement of Vibrancy\, Health\, and Beauty
DESCRIPTION:
URL:https://julierenee.com/training/stem-cell-enhancement-of-vibrancy-health-and-beauty-5/
END:VEVENT
BEGIN:VEVENT
DTSTART;TZID=America/Chicago:20251231T090000
DTEND;TZID=America/Chicago:20251231T094500
DTSTAMP:20260425T063556
CREATED:20251221T011059Z
LAST-MODIFIED:20251221T011059Z
UID:10002135-1767171600-1767174300@julierenee.com
SUMMARY:Restoring Pleasure - Clearing Pain in the Physical Heart
DESCRIPTION:
URL:https://julierenee.com/training/restoring-pleasure-clearing-pain-in-the-physical-heart/
END:VEVENT
END:VCALENDAR